Workbook

Sheet Table 1
C1: PREFEITURA MUNICIPAL DE AGUIA BRANCA
C2: ESTADO DO ESPÍRITO SANTO
A3: Obra: | B3: CONSTRUÇÃO CAMPO BOLA DE MASSA EM AGUIA BRANCA | D3: DER-EDIF JUL-2024
A4: Local: | B4: PARQUE MUNICIPAL RECANTO DO JACARÉ - AGUIA BRANCA/ ES | D4: BDI : 36,59%
A5: PLANILHA ORÇAMENTÁRIA
A6: OBRA:CAMPO DE BOCHA
A7: ITEM | B7: CÓDIGO | C7: DESCRIÇÃO | D7: UNID | E7: QUANT. | F7: VALORES EM REAL
F8: P. UNIT. | H8: P. TOTAL
A10: 1 | C10: SERVIÇOS PRELIMINARES
A11: 1.1 | B11: 20305 DER- ES | C11: Placa de obra nas dimensões de 2.0 x 4.0 m, padrão IOPES | D11: m² | E11: 4.5 | F11: R$ | G11: 335.03 | H11: R$ | I11: =E11*G11 -> 1507.64
A12: 1.2 | B12: 020702 DER-ES | C12: Barracão para almoxarifado área de 10.90m2, de chapa de compensado de 12mm e pontalete 8x8cm, piso cimentado e cobertura de telhas de fibrocimento de 6mm, incl. ponto de luz, conf. projeto (1 utilização) | D12: m² | E12: 6 | F12: R$ | G12: 796.31 | H12: R$ | I12: =E12*G12 -> 4777.86
C13: SUBTOTAL | H13: R$ | I13: =SUM(I11:I12)-0.01 -> 6285.49
A14: 2 | C14: MOVIMENTO DE TERRA
A15: 2.1 | B15: 030101 DER-ES | C15: Escavação manual em material de 1a. categoria, até 1.50 m de profundidade | D15: m3 | E15: 3 | F15: R$ | G15: 78.66 | H15: R$ | I15: =E15*G15 -> 235.98
A16: 2.2 | B16: 030201 DER-ES | C16: Reaterro apiloado de cavas de fundação, em camadas de 20 cm | D16: m3 | E16: 0.76 | F16: R$ | G16: 84.71 | H16: R$ | I16: =E16*G16 -> 64.38
C17: SUBTOTAL | H17: R$ | I17: =I15+I16 -> 300.36
A18: 3 | C18: FUNDAÇÃO
A19: 3.1 | B19: 40324 DER- ES | C19: Fornecimento, preparo e aplicação de concreto Fck=25 MPa (brita 1 e 2) - (5% de perdas já incluído no custo) | D19: m3 | E19: 2.24 | F19: R$ | G19: 1150.5 | H19: R$ | I19: 2581.72
A20: 3.2 | B20: 40333 DER- ES | C20: Fornecimento, dobragem e colocação em fôrma, de armadura CA-60 B fina, diâmetro de 4.0 a 7.0mm | D20: kg | E20: 13.31 | F20: R$ | G20: 16.5 | H20: R$ | I20: 219.53
A21: 3.3 | B21: 40328 DER- ES | C21: Fornecimento, dobragem e colocação em fôrma, de armadura CA-50 A média, diâmetro de 6.3 a 10.0 mm | D21: kg | E21: 49.61 | F21: R$ | G21: 15.46 | H21: R$ | I21: 766.92
A22: 3.4 | B22: 40206 DER- ES | C22: Fôrma de tábua de madeira de 2.5 x 30.0 cm para fundações, levando-se em conta a utilização 5 vezes (incluido o material, corte, montagem, escoramento e desforma) | D22: m2 | E22: 19.68 | F22: R$ | G22: 113.47 | H22: R$ | I22: 2233.09
A23: 3.5 | B23: 40813 DER- ES | C23: Impermeabilização de estrutura com Sika Top 107 ou equivalente | D23: m2 | E23: 25.68 | F23: R$ | G23: 111.07 | H23: R$ | I23: =E23*G23 -> 2852.28
C24: SUBTOTAL | H24: R$ | I24: =SUM(I19:I23) -> 8653.54
A25: 4 | C25: ESTRUTURA METÁLICA
A26: 4.1 | B26: 200738 DER-ES | C26: Estrut. metálica p/ quadra poliesp. coberta constituída por perfis formados a frio, aço estrutural ASTM A-570 G33 (terças) ASTM A-36 (demais perfis) c/ o sistema de trat. e pintura conf descrito em notas da planilha | D26: kg | E26: 2252.32 | F26: R$ | G26: 46.66 | H26: R$ | I26: =E26*G26 -> 105093.25
A27: 4.2 | B27: 090312 DER-ES | C27: Calha em chapa galvanizada com largura de 40 cm | D27: m | E27: 45.2 | F27: R$ | G27: 29.39 | H27: R$ | I27: =E27*G27 -> 1328.43
A28: 4.3 | B28: 141909 DER-ES | C28: Tubo de PVC rígido soldável branco, para esgoto, diâmetro 100mm (4"), inclusive conexões | D28: m | E28: 12 | F28: R$ | G28: 102.91 | H28: R$ | I28: =E28*G28 -> 1234.92
A29: 4.4 | B29: 090228 DER-ES | C29: Telha em aço galvalume trapezoidal 40, e=0.50mm, pintura cor branca nas duas faces, inclusive acessório de fixação Ref. Santo André, Eternit, Metform ou equivalente | D29: m2 | E29: 194.36 | F29: R$ | G29: 108.12 | H29: R$ | I29: =E29*G29 -> 21014.2
C30: SUBTOTAL | H30: R$ | I30: =SUM(I26:I29) -> 128670.8
A31: 5 | C31: PISO E FECHAMENTO
A32: 5.1 | B32: 030203 DER-ES | C32: Lastro de brita 3 e 4, apiloado manualmente | D32: m³ | E32: 7.68 | F32: R$ | G32: 335.74 | H32: R$ | I32: =E32*G32 -> 2578.48
A33: 5.2 | B33: 030208 DER-ES | C33: Aterro manual para regularização do terreno em argila, inclusive adensamento manual e fornecimento do material (máximo de 100m3) | D33: m³ | E33: 15.37 | F33: R$ | G33: 239.11 | H33: R$ | I33: =E33*G33 -> 3675.12
A34: 5.3 | B34: 200715 DER-ES | C34: Mureta em alvenaria de blocos cerâmicos 10x20x20cmm, h=0.60cm, para fechamento de quadra, com pilaretes de travamento em concreto armado a cada 3m, inclusive chapisco | D34: m² | E34: 58.15 | F34: R$ | G34: 255.03 | H34: R$ | I34: =E34*G34 -> 14829.99
A35: 5.4 | B35: 110302 DER-ES | C35: Reboco tipo paulista de argamassa de cimento, cal hidratada CH1 e areia lavada traço 1:0.5:6, espessura 25 mm | D35: m² | E35: 116.3 | F35: R$ | G35: 92.36 | H35: R$ | I35: =E35*G35 -> 10741.47
A36: 5.5 | B36: 160708 DER-ES | C36: Pintura com tinta acrílica Suvinil, Coral ou Metalatex, inclusive selador acrílico, em paredes externas a três demãos | D36: m² | E36: 116.3 | F36: R$ | G36: 38.19 | H36: R$ | I36: =E36*G36 -> 4441.5
A37: 5.6 | B37: 170220 DER-ES | C37: Bancada de granito com espessura de 2 cm | D37: m² | E37: 11.68 | F37: R$ | G37: 600.35 | H37: R$ | I37: =E37*G37 -> 7012.09
A38: 5.7 | B38: 130304 DER-ES | C38: Rodapé de madeira de lei 7.0 x 1.5 cm, fixado com parafuso e bucha plástica n° 7 | D38: m | E38: 294.88 | F38: R$ | G38: 59.53 | H38: R$ | I38: =E38*G38 -> 17554.21
A39: 5.8 | B39: 200209 DER-ES | C39: Passeio de cimentado camurçado com argamassa de cimento e areia no traço 1:3 esp. 1.5cm, e lastro de concreto com 8cm de espessura, inclusive preparo de caixa | D39: m² | E39: 77.8 | F39: R$ | G39: 214.75 | H39: R$ | I39: =E39*G39 -> 16707.55
A40: 5.9 | B40: MERCADO 01 | C40: ESTRUTURA METALICA CONFORME PROJETO, COM FECHAMENTO EM ACM | D40: und | E40: 1 | F40: R$ | G40: 55728.72 | H40: R$ | I40: =E40*G40 -> 55728.72
C41: SUBTOTAL | H41: R$ | I41: =SUM(I32:I40)-0.01 -> 133269.12
...

Sheet Planilha1
A2: PREFEITURA MUNICIPAL DE AGUIA BRANCA
A3: ESTADO DO ESPÍRITO SANTO
A4: OBRA: | B4: CONSTRUÇÃO CAMPO BOLA DE MASSA EM AGUIA BRANCA
A5: LOCAL: | B5: PARQUE MUNICIPAL RECANTO DO JACARÉ - AGUIA BRANCA/ ES
A6: CRONOGRAMA FÍSICO-FINANCEIRO COM BARRAS
A7: ITEM | B7: ESPECIFICAÇÃO | C7: VALOR DA OBRA E % FÍSICA | E7: ANDAMENTO EM MESES
E8: 1º MÊS | F8: 2º MÊS | G8: 3º MÊS | H8: 4º MÊS | I8: 5º MÊS | J8: 6º MÊS | K8: 7º MÊS
A9: 1 | B9: SERVIÇOS PRELIMINARES | C9: ='Table 1'!I13 -> 6285.49 | E9: =C9 -> 6285.49
C10: =C9/C55 -> #REF!
E11: 1
A12: 2 | B12: MOVIMENTO DE TERRA | C12: ='Table 1'!I17 -> 300.36 | E12: =C12 -> 300.36
C13: =C12/C55 -> #REF!
E14: 1
A15: 3 | B15: FUNDAÇÃO | C15: ='Table 1'!I24 -> 8653.54 | E15: =C15/2 -> 4326.77 | F15: =C15-E15 -> 4326.77
C16: =C15/C55 -> #REF!
E17: 0.5 | F17: 0.5
A18: 4 | B18: ='Table 1'!#REF! -> #REF! | C18: ='Table 1'!#REF! -> #REF! | F18: =C18 -> #REF!
C19: =C18/C55 -> #REF!
F20: 1
A21: 5 | B21: ='Table 1'!#REF! -> #REF! | C21: ='Table 1'!#REF! -> #REF! | F21: =C21/2 -> #REF! | G21: =C21-F21 -> #REF!
C22: =C21/C55 -> #REF!
F23: 0.5 | G23: 0.5
A24: 6 | B24: ESTRUTURA METÁLICA | C24: ='Table 1'!I30 -> 128670.8 | G24: =C24/2 -> 64335.4 | H24: =C24/2 -> 64335.4
C25: =C24/C55 -> #REF!
G26: 0.5 | H26: 0.5
A27: 7 | B27: PISO E FECHAMENTO | C27: ='Table 1'!I41 -> 133269.12 | H27: =C27/4 -> 33317.28 | I27: =H27 -> 33317.28 | J27: =H27 -> 33317.28 | K27: =C27-H27-I27-J27 -> 33317.28
C28: =C27/C55 -> #REF!
H29: 0.25 | I29: 0.25 | J29: 0.25 | K29: 0.25
A30: 8 | B30: ='Table 1'!#REF! -> #REF! | C30: ='Table 1'!#REF! -> #REF! | I30: =C30 -> #REF!
C31: =C30/C55 -> #REF!
I32: 1
A33: 9 | B33: ='Table 1'!#REF! -> #REF! | C33: ='Table 1'!#REF! -> #REF! | I33: =C33 -> #REF!
C34: =C33/C55 -> #REF!
I35: 1
A36: 10 | B36: ='Table 1'!#REF! -> #REF! | C36: ='Table 1'!#REF! -> #REF! | J36: =C36 -> #REF!
C37: =C36/C55 -> #REF!
J38: 1
A39: 11 | B39: ='Table 1'!#REF! -> #REF! | C39: ='Table 1'!#REF! -> #REF! | J39: =C39 -> #REF!
C40: =C39/C55 -> #REF!
J41: 1
...
