Workbook

Sheet Table 1
C1: PREFEITURA MUNICIPAL DE AGUIA BRANCA
C2: ESTADO DO ESPÍRITO SANTO
A3: Obra: | B3: CONSTRUÇÃO CAMPO BOLA DE MASSA EM AGUIA BRANCA | D3: DER-EDIF JUL-2024
A4: Local: | B4: PARQUE MUNICIPAL RECANTO DO JACARÉ - AGUIA BRANCA/ ES | D4: BDI : 36,59%
A5: PLANILHA ORÇAMENTÁRIA
A6: OBRA:CAMPO DE BOCHA
A7: ITEM | B7: CÓDIGO | C7: DESCRIÇÃO | D7: UNID | E7: QUANT. | F7: VALORES EM REAL
F8: P. UNIT. | H8: P. TOTAL
A10: 1 | C10: SERVIÇOS PRELIMINARES
A11: 1.1 | B11: 20305 DER- ES | C11: Placa de obra nas dimensões de 2.0 x 4.0 m, padrão IOPES | D11: m² | E11: 4.5 | F11: R$ | G11: 335.03 | H11: R$ | I11: =E11*G11 -> 1507.64
A12: 1.2 | B12: 020702 DER-ES | C12: Barracão para almoxarifado área de 10.90m2, de chapa de compensado de 12mm e pontalete 8x8cm, piso cimentado e cobertura de telhas de fibrocimento de 6mm, incl. ponto de luz, conf. projeto (1 utilização) | D12: m² | E12: 6 | F12: R$ | G12: 796.31 | H12: R$ | I12: =E12*G12 -> 4777.86
C13: SUBTOTAL | H13: R$ | I13: =SUM(I11:I12)-0.01 -> 6285.49
A14: 2 | C14: MOVIMENTO DE TERRA
A15: 2.1 | B15: 030101 DER-ES | C15: Escavação manual em material de 1a. categoria, até 1.50 m de profundidade | D15: m3 | E15: 3 | F15: R$ | G15: 78.66 | H15: R$ | I15: =E15*G15 -> 235.98
A16: 2.2 | B16: 030201 DER-ES | C16: Reaterro apiloado de cavas de fundação, em camadas de 20 cm | D16: m3 | E16: 0.76 | F16: R$ | G16: 84.71 | H16: R$ | I16: =E16*G16 -> 64.38
C17: SUBTOTAL | H17: R$ | I17: =I15+I16 -> 300.36
A18: 3 | C18: FUNDAÇÃO
A19: 3.1 | B19: 40324 DER- ES | C19: Fornecimento, preparo e aplicação de concreto Fck=25 MPa (brita 1 e 2) - (5% de perdas já incluído no custo) | D19: m3 | E19: 2.24 | F19: R$ | G19: 1150.5 | H19: R$ | I19: 2581.72
A20: 3.2 | B20: 40333 DER- ES | C20: Fornecimento, dobragem e colocação em fôrma, de armadura CA-60 B fina, diâmetro de 4.0 a 7.0mm | D20: kg | E20: 13.31 | F20: R$ | G20: 16.5 | H20: R$ | I20: 219.53
A21: 3.3 | B21: 40328 DER- ES | C21: Fornecimento, dobragem e colocação em fôrma, de armadura CA-50 A média, diâmetro de 6.3 a 10.0 mm | D21: kg | E21: 49.61 | F21: R$ | G21: 15.46 | H21: R$ | I21: 766.92
A22: 3.4 | B22: 40206 DER- ES | C22: Fôrma de tábua de madeira de 2.5 x 30.0 cm para fundações, levando-se em conta a utilização 5 vezes (incluido o material, corte, montagem, escoramento e desforma) | D22: m2 | E22: 19.68 | F22: R$ | G22: 113.47 | H22: R$ | I22: 2233.09
A23: 3.5 | B23: 40813 DER- ES | C23: Impermeabilização de estrutura com Sika Top 107 ou equivalente | D23: m2 | E23: 25.68 | F23: R$ | G23: 111.07 | H23: R$ | I23: =E23*G23 -> 2852.28
C24: SUBTOTAL | H24: R$ | I24: =SUM(I19:I23) -> 8653.54
A25: 4 | C25: ESTRUTURA METÁLICA
A26: 4.1 | B26: 200738 DER-ES | C26: Estrut. metálica p/ quadra poliesp. coberta constituída por perfis formados a frio, aço estrutural ASTM A-570 G33 (terças) ASTM A-36 (demais perfis) c/ o sistema de trat. e pintura conf descrito em notas da planilha | D26: kg | E26: 2252.32 | F26: R$ | G26: 46.66 | H26: R$ | I26: =E26*G26 -> 105093.25
A27: 4.2 | B27: 090312 DER-ES | C27: Calha em chapa galvanizada com largura de 40 cm | D27: m | E27: 45.2 | F27: R$ | G27: 29.39 | H27: R$ | I27: =E27*G27 -> 1328.43
A28: 4.3 | B28: 141909 DER-ES | C28: Tubo de PVC rígido soldável branco, para esgoto, diâmetro 100mm (4"), inclusive conexões | D28: m | E28: 12 | F28: R$ | G28: 102.91 | H28: R$ | I28: =E28*G28 -> 1234.92
A29: 4.4 | B29: 090228 DER-ES | C29: Telha em aço galvalume trapezoidal 40, e=0.50mm, pintura cor branca nas duas faces, inclusive acessório de fixação Ref. Santo André, Eternit, Metform ou equivalente | D29: m2 | E29: 194.36 | F29: R$ | G29: 108.12 | H29: R$ | I29: =E29*G29 -> 21014.2
C30: SUBTOTAL | H30: R$ | I30: =SUM(I26:I29) -> 128670.8
A31: 5 | C31: PISO E FECHAMENTO
A32: 5.1 | B32: 030203 DER-ES | C32: Lastro de brita 3 e 4, apiloado manualmente | D32: m³ | E32: 7.68 | F32: R$ | G32: 335.74 | H32: R$ | I32: =E32*G32 -> 2578.48
A33: 5.2 | B33: 030208 DER-ES | C33: Aterro manual para regularização do terreno em argila, inclusive adensamento manual e fornecimento do material (máximo de 100m3) | D33: m³ | E33: 15.37 | F33: R$ | G33: 239.11 | H33: R$ | I33: =E33*G33 -> 3675.12
A34: 5.3 | B34: 200715 DER-ES | C34: Mureta em alvenaria de blocos cerâmicos 10x20x20cmm, h=0.60cm, para fechamento de quadra, com pilaretes de travamento em concreto armado a cada 3m, inclusive chapisco | D34: m² | E34: 58.15 | F34: R$ | G34: 255.03 | H34: R$ | I34: =E34*G34 -> 14829.99
A35: 5.4 | B35: 110302 DER-ES | C35: Reboco tipo paulista de argamassa de cimento, cal hidratada CH1 e areia lavada traço 1:0.5:6, espessura 25 mm | D35: m² | E35: 116.3 | F35: R$ | G35: 92.36 | H35: R$ | I35: =E35*G35 -> 10741.47
A36: 5.5 | B36: 160708 DER-ES | C36: Pintura com tinta acrílica Suvinil, Coral ou Metalatex, inclusive selador acrílico, em paredes externas a três demãos | D36: m² | E36: 116.3 | F36: R$ | G36: 38.19 | H36: R$ | I36: =E36*G36 -> 4441.5
A37: 5.6 | B37: 170220 DER-ES | C37: Bancada de granito com espessura de 2 cm | D37: m² | E37: 11.68 | F37: R$ | G37: 600.35 | H37: R$ | I37: =E37*G37 -> 7012.09
A38: 5.7 | B38: 130304 DER-ES | C38: Rodapé de madeira de lei 7.0 x 1.5 cm, fixado com parafuso e bucha plástica n° 7 | D38: m | E38: 294.88 | F38: R$ | G38: 59.53 | H38: R$ | I38: =E38*G38 -> 17554.21
A39: 5.8 | B39: 200209 DER-ES | C39: Passeio de cimentado camurçado com argamassa de cimento e areia no traço 1:3 esp. 1.5cm, e lastro de concreto com 8cm de espessura, inclusive preparo de caixa | D39: m² | E39: 77.8 | F39: R$ | G39: 214.75 | H39: R$ | I39: =E39*G39 -> 16707.55
A40: 5.9 | B40: MERCADO 01 | C40: ESTRUTURA METALICA CONFORME PROJETO, COM FECHAMENTO EM ACM | D40: und | E40: 1 | F40: R$ | G40: 55728.72 | H40: R$ | I40: =E40*G40 -> 55728.72
C41: SUBTOTAL | H41: R$ | I41: =SUM(I32:I40)-0.01 -> 133269.12
A42: 6 | C42: INSTALAÇÕES ELÉTRICAS
A43: 6.1 | B43: 150311 DER-ES | C43: Quadro de distribuição de energia, de embutir, com 12 divisões modulares, sem barramento | D43: unid. | E43: 1 | F43: R$ | G43: 206.73 | H43: R$ | I43: =E43*G43 -> 206.73
A44: 6.2 | B44: 151301 DER-ES | C44: Mini-Disjuntor monopolar 16 A, curva C - 5KA 220/127VCA (NBR IEC 60947-2), Ref. Siemens, GE, Schneider ou equivalente | D44: unid. | E44: 1 | F44: R$ | G44: 30.53 | H44: R$ | I44: =E44*G44 -> 30.53
A45: 6.3 | B45: 151306 DER-ES | C45: Mini-Disjuntor bipolar 16 A, curva C - 5KA 220/127VCA (NBR IEC 60947-2), Ref. Siemens, GE, Schneider ou equivalente | D45: unid. | E45: 2 | F45: R$ | G45: 88.87 | H45: R$ | I45: =E45*G45 -> 177.74
A46: 6.4 | B46: 151321 DER-ES | C46: Mini-Disjuntor bipolar 25 A, curva C - 5KA 220/127VCA (NBR IEC 60947-2), Ref. Siemens, GE, Schneider ou equivalente | D46: unid. | E46: 1 | F46: R$ | G46: 88.87 | H46: R$ | I46: =E46*G46 -> 88.87
A47: 6.5 | B47: 151803 DER-ES | C47: Ponto padrão de tomada 2 pólos mais terra - considerando eletroduto PVC rígido de 3/4" inclusive conexões (5.0m), fio isolado PVC de 2.5mm2 (16.5m) e caixa estampada 4x2" (1 und) | D47: unid. | E47: 4 | F47: R$ | G47: 293.64 | H47: R$ | I47: =E47*G47 -> 1174.56
A48: 6.6 | B48: 151801 DER-ES | C48: Ponto padrão de luz no teto - considerando eletroduto PVC rígido de 3/4" inclusive conexões (4.5m), fio isolado PVC de 2.5mm2 (16.2m) e caixa estampada 4x4" (1 und) | D48: unid. | E48: 6 | F48: R$ | G48: 289.42 | H48: R$ | I48: =E48*G48 -> 1736.52
A49: 6.7 | B49: 151402 DER-ES | C49: Fio de cobre termoplástico, com isolamento para 750V, seção de 2.5 mm2 | D49: m | E49: 72.65 | F49: R$ | G49: 9.53 | H49: R$ | I49: =E49*G49 -> 692.35
A50: 6.8 | B50: 151404 DER-ES | C50: Fio ou cabo de cobre termoplástico, com isolamento para 750V, seção de 6.0 mm2 | D50: m | E50: 60 | F50: R$ | G50: 15.95 | H50: R$ | I50: =E50*G50 -> 957
A51: 6.9 | B51: 181005 DER-ES | C51: Luminária sobrepor compl., corpo ch. aço pintada branca, refletor,aletas parabólicas alum.alta pureza e refletância inclusive 4 lâmpadas LED T8 9W temp. de cor 5000k bivolt c/ 60cm - Ref.CAA01-S416 Lumicenter ou equivalente | D51: unid. | E51: 6 | F51: R$ | G51: 361.98 | H51: R$ | I51: =E51*G51 -> 2171.88
A52: 6.10 | B52: 150632 DER-ES | C52: Caixa de passagem 150x150x80mm, chapa 18, com tampa parafusada | D52: unid. | E52: 2 | F52: R$ | G52: 100.15 | H52: R$ | I52: =E52*G52 -> 200.3
C53: SUBTOTAL | H53: R$ | I53: =SUM(I43:I52) -> 7436.48
A54: 7 | C54: SPDA
A55: 7.1 | B55: 160311 DER-ES | C55: Haste de terra tipo COPPERWELD - 5/8" x 2.40m | D55: unid. | E55: 4 | F55: R$ | G55: 324.54 | H55: R$ | I55: =E55*G55 -> 1298.16
A56: 7.2 | B56: 160317 DER-ES | C56: Cabo de cobre nú 50mm2, ref. TEL 5750, marca de referência Termotécnica ou equivalente | D56: m | E56: 66 | F56: R$ | G56: 87.32 | H56: R$ | I56: =E56*G56 -> 5763.12
A57: 7.3 | B57: 160318 DER-ES | C57: Cabo de cobre nú 35mm2, ref. TEL 5735, marca de referência Termotécnica ou equivalente | D57: m | E57: 13.6 | F57: R$ | G57: 61.67 | H57: R$ | I57: =E57*G57 -> 838.71
A58: 7.4 | B58: 160316 DER-ES | C58: Caixa de inspeção em PVC, diâmetro 300 mm, ref TEL-552, marca de referência Termotécnica ou equivalente, inclusive escavação e reaterro | D58: unid. | E58: 4 | F58: R$ | G58: 118.6 | H58: R$ | I58: =E58*G58 -> 474.4
A59: 7.5 | B59: 160321 DER-ES | C59: Tampa reforçada em ferro fundido com escotilha TEL 536, inclusive assentamento, marca de referência Termotécnica ou equivalente | D59: unid. | E59: 4 | F59: R$ | G59: 229.13 | H59: R$ | I59: =E59*G59 -> 916.52
A60: 7.6 | B60: 160310 DER-ES | C60: Conector de medição em latão com 2 parafusos para cabos de 16 a 50 mm2, ref. TEL-562, Termotécnica ou equivalente | D60: unid. | E60: 4 | F60: R$ | G60: 89.25 | H60: R$ | I60: =E60*G60 -> 357
A61: 7.7 | B61: 152031 DER-ES | C61: Conector split bolt para cabo de 35.0 mm2 | D61: unid. | E61: 4 | F61: R$ | G61: 26.81 | H61: R$ | I61: =E61*G61 -> 107.24
C62: SUBTOTAL | H62: R$ | I62: =SUM(I55:I61) -> 9755.15
A63: 8 | C63: COMBATE A INCÊNDIO
A64: 8.1 | B64: 160604 DER-ES | C64: Extintor de incêndio de água pressurizada capacidade 2A (10L), inclusive suporte para fixação e EXCLUSIVE placa sinalizadora em PVC Fotoluminescente | D64: unid. | E64: 1 | F64: R$ | G64: 284.93 | H64: R$ | I64: =E64*G64 -> 284.93
A65: 8.2 | B65: 160605 DER-ES | C65: Extintor de incêndio portátil de pó químico ABC com capacidade 2A-20B:C (6 kg), inclusive suporte para fixação, EXCLUSIVE placa sinalizadora em PVC fotoluminescente | D65: unid. | E65: 1 | F65: R$ | G65: 291.25 | H65: R$ | I65: =E65*G65 -> 291.25
A66: 8.3 | B66: 160612 DER-ES | C66: Placa de sinalização de segurança CODIGO 14 - 315/158(NBR 13.434); CÓDIGO S3(NT 14/2010-ES) ("EXTINTOR") | D66: unid. | E66: 4 | F66: R$ | G66: 36.25 | H66: R$ | I66: =E66*G66 -> 145
A67: 8.4 | B67: 160613 DER-ES | C67: Ponto para iluminação de emergência completo, inclusive bloco autônomo de iluminação 2x9W com tomada universal | D67: unid. | E67: 2 | F67: R$ | G67: 344.48 | H67: R$ | I67: =E67*G67 -> 688.96
C68: SUBTOTAL | H68: R$ | I68: =SUM(I64:I67) -> 1410.14
C70: VALOR TOTAL DA OBRA | G70: R$ | H70: =I68+I62+I53+I41+I30+I24+I17+I13-0.34 -> 295780.74
A73: OBRA: INSTALAÇÕES SANITÁRIAS NO PARQUE
A74: ITEM | B74: CÓDIGO | C74: DESCRIÇÃO | D74: UNID | E74: QUANT. | F74: VALORES EM REAL
F75: P. UNIT. | H75: P. TOTAL
A76: 9 | C76: SERVIÇOS PRELIMINARES
A77: 9.1 | B77: 151702 DER-ES | C77: Padrão de entrada de energia elétrica, bifásico, entrada aérea, a 3 fios, carga instalada em muro de 9001 até 15000W - 220/127V | D77: und | E77: 1 | F77: R$ | G77: 4036.6 | H77: R$ | I77: =E77*G77 -> 4036.6
A78: 9.2 | B78: 10501 DER-ES | C78: Locação de obra com gabarito de madeira | D78: m² | E78: =(8+22)*2 -> 60 | F78: R$ | G78: 16.19 | H78: R$ | I78: =E78*G78 -> 971.4
A79: 9.3 | B79: 20350 DER-ES | C79: Tapume Telha Metálica Ondulada 0,50mm Branca h=2,20m, incl. montagem estr. mad. 8"x8", c/adesivo "IOPES" 60x60cm a cada 10m, incl. faixas pint. esmalte sint. cores azul c/ h=30cm e rosa c/ h=10cm (Reaproveitamento 2x) | D79: m | E79: 30.2 | F79: R$ | G79: 189.76 | H79: R$ | I79: =E79*G79 -> 5730.75
A80: 9.4 | B80: 100302 DER-ES | C80: ENGENHEIRO PLENO | D80: mês | E80: 1 | F80: R$ | G80: =15740.56+15740.56*36.59% -> 21500.03 | H80: R$ | I80: =E80*G80 -> 21500.03
C81: SUBTOTAL | H81: R$ | I81: =SUM(I77:I80) -> 32238.78
A82: 10 | C82: FUNDAÇÃO
A83: 10.1 | B83: 40324 DER- ES | C83: Fornecimento, preparo e aplicação de concreto Fck=25 MPa (brita 1 e 2) - (5% de perdas já incluído no custo) | D83: m3 | E83: =2.91 -> 2.91 | F83: R$ | G83: 1150.5 | H83: R$ | I83: =E83*G83 -> 3347.96
A84: 10.2 | B84: 40333 DER- ES | C84: Fornecimento, dobragem e colocação em fôrma, de armadura CA-60 B fina, diâmetro de 4.0 a 7.0mm | D84: kg | E84: 23 | F84: R$ | G84: 16.5 | H84: R$ | I84: =E84*G84 -> 379.5
A85: 10.3 | B85: 40328 DER- ES | C85: Fornecimento, dobragem e colocação em fôrma, de armadura CA-50 A média, diâmetro de 6.3 a 10.0 mm | D85: kg | E85: 111 | F85: R$ | G85: 15.46 | H85: R$ | I85: =E85*G85 -> 1716.06
A86: 10.4 | B86: 40206 DER- ES | C86: Fôrma de tábua de madeira de 2.5 x 30.0 cm para fundações, levando-se em conta a utilização 5 vezes (incluido o material, corte, montagem, escoramento e desforma) | D86: m2 | E86: 24.24 | F86: R$ | G86: 113.47 | H86: R$ | I86: =E86*G86 -> 2750.51
A87: 10.5 | B87: 40813 DER- ES | C87: Impermeabilização de estrutura com Sika Top 107 ou equivalente | D87: m2 | E87: =(3.7+3.7+5.45+5.45+5.45+2+2)*2*0.4 -> 22.2 | F87: R$ | G87: 111.07 | H87: R$ | I87: =E87*G87 -> 2465.75
C88: SUBTOTAL | H88: R$ | I88: =SUM(I83:I87) -> 10659.78
A89: 11 | C89: SUPER-ESTRUTURA
A90: 11.1 | B90: 40337 DER-ES | C90: Fôrma em chapa de madeira compensada plastificada 12mm para estrutura em geral, 5 reaproveitamentos, reforçada com sarrafos de madeira 2.5x10cm (incl material, corte, montagem, escoras em eucalipto e desforma) | D90: m2 | E90: 61.76 | F90: R$ | G90: 145.61 | H90: R$ | I90: =E90*G90 -> 8992.87
A91: 11.2 | B91: 40328 DER-ES | C91: Fornecimento, dobragem e colocação em fôrma, de armadura CA-50 A média, diâmetro de 6.3 a 10.0 mm | D91: kg | E91: 327 | F91: R$ | G91: 15.46 | H91: R$ | I91: =E91*G91 -> 5055.42
A92: 11.3 | B92: 40332 DER-ES | C92: Fornecimento, dobragem e colocação em fôrma, de armadura CA-50 A grossa, diâmetro de 12.5 a 25.0mm | D92: kg | E92: 53 | F92: R$ | G92: 15.46 | H92: R$ | I92: =E92*G92 -> 819.38
A93: 11.4 | B93: 40333 DER-ES | C93: Fornecimento, dobragem e colocação em fôrma, de armadura CA-60 B fina, diâmetro de 4.0 a 7.0mm | D93: kg | E93: 42 | F93: R$ | G93: 16.5 | H93: R$ | I93: =E93*G93 -> 693
A94: 11.5 | B94: 40324 DER- ES | C94: Fornecimento, preparo e aplicação de concreto Fck=25 MPa (brita 1 e 2) - (5% de perdas já incluído no custo) | D94: m3 | E94: 5.03 | F94: R$ | G94: 1150.5 | H94: R$ | I94: =E94*G94 -> 5787.02
C95: SUBTOTAL | H95: R$ | I95: =SUM(I90:I94) -> 21347.69
A96: 12 | C96: ALVENARIA DE VEDAÇÃO
A97: 12.1 | B97: 50301 DER-ES | C97: Verga/contraverga reta de concreto armado 10 x 5 cm, Fck = 15 MPa, inclusive forma, armação e desforma | D97: m | E97: 10.5 | F97: R$ | G97: 56.08 | H97: R$ | I97: =E97*G97 -> 588.84
A98: 12.2 | B98: 50601 DER-ES | C98: Alvenaria de blocos de concreto 9x19x39cm, c/ resist. mínimo a compres. 2.5 MPa, assent. c/ arg. De cimento, cal hidratada CH1 e areia no traço 1:0.5:8 esp. das juntas 10mm e esp. das paredes, s/ rev. 9cm | D98: m2 | E98: 11.2 | F98: R$ | G98: 100.38 | H98: R$ | I98: =E98*G98 -> 1124.26
A99: 12.3 | B99: 50602 DER-ES | C99: Alvenaria de blocos de concreto 14x19x39cm, c/ resist. mínimo a compres. 2.5 MPa, assent. c/ arg. De cimento, cal hidratada CH1 e areia no traço 1:0.5:8 esp. das juntas 10mm e esp. das paredes, s/ rev. 14cm | D99: m2 | E99: 52.65 | F99: R$ | G99: 115.76 | H99: R$ | I99: =E99*G99 -> 6094.76
A100: 12.4 | B100: 50122 DER-ES | C100: Cobogó de concreto tipo cruzeta de 20 x 20 x 10 cm, assentado com argamassa de cimento, cal hidratada e areia no traço1:0,5:5, espessura das juntas de 10mm e espessura de parede 10cm | D100: m2 | E100: 17.22 | F100: R$ | G100: 598.05 | H100: R$ | I100: =E100*G100 -> 10298.42
C101: SUBTOTAL | H101: R$ | I101: =SUM(I97:I100) -> 18106.28
A102: 13 | C102: ESTRUTURA METÁLICA
A103: 13.1 | B103: 200738 DER-ES | C103: Estrut. metálica p/ quadra poliesp. coberta constituída por perfis formados a frio, aço estrutural ASTM A-570 G33 (terças) ASTM A-36 (demais perfis) c/ o sistema de trat. e pintura conf descrito em notas da planilha | D103: kg | E103: 47.81 | F103: R$ | G103: 46.66 | H103: R$ | I103: =E103*G103 -> 2230.81
A104: 13.2 | B104: 090312 DER-ES | C104: Calha em chapa galvanizada com largura de 40 cm | D104: m | E104: 5.45 | F104: R$ | G104: 29.39 | H104: R$ | I104: =E104*G104 -> 160.18
...

Sheet Planilha1
A2: PREFEITURA MUNICIPAL DE AGUIA BRANCA
A3: ESTADO DO ESPÍRITO SANTO
A4: OBRA: | B4: CONSTRUÇÃO CAMPO BOLA DE MASSA EM AGUIA BRANCA
A5: LOCAL: | B5: PARQUE MUNICIPAL RECANTO DO JACARÉ - AGUIA BRANCA/ ES
A6: CRONOGRAMA FÍSICO-FINANCEIRO COM BARRAS
A7: ITEM | B7: ESPECIFICAÇÃO | C7: VALOR DA OBRA E % FÍSICA | E7: ANDAMENTO EM MESES
E8: 1º MÊS | F8: 2º MÊS | G8: 3º MÊS | H8: 4º MÊS | I8: 5º MÊS | J8: 6º MÊS | K8: 7º MÊS
A9: 1 | B9: SERVIÇOS PRELIMINARES | C9: ='Table 1'!I13 -> 6285.49 | E9: =C9 -> 6285.49
C10: =C9/C55 -> #REF!
E11: 1
A12: 2 | B12: MOVIMENTO DE TERRA | C12: ='Table 1'!I17 -> 300.36 | E12: =C12 -> 300.36
C13: =C12/C55 -> #REF!
E14: 1
A15: 3 | B15: FUNDAÇÃO | C15: ='Table 1'!I24 -> 8653.54 | E15: =C15/2 -> 4326.77 | F15: =C15-E15 -> 4326.77
C16: =C15/C55 -> #REF!
E17: 0.5 | F17: 0.5
A18: 4 | B18: ='Table 1'!#REF! -> #REF! | C18: ='Table 1'!#REF! -> #REF! | F18: =C18 -> #REF!
C19: =C18/C55 -> #REF!
F20: 1
A21: 5 | B21: ='Table 1'!#REF! -> #REF! | C21: ='Table 1'!#REF! -> #REF! | F21: =C21/2 -> #REF! | G21: =C21-F21 -> #REF!
C22: =C21/C55 -> #REF!
F23: 0.5 | G23: 0.5
A24: 6 | B24: ESTRUTURA METÁLICA | C24: ='Table 1'!I30 -> 128670.8 | G24: =C24/2 -> 64335.4 | H24: =C24/2 -> 64335.4
C25: =C24/C55 -> #REF!
G26: 0.5 | H26: 0.5
A27: 7 | B27: PISO E FECHAMENTO | C27: ='Table 1'!I41 -> 133269.12 | H27: =C27/4 -> 33317.28 | I27: =H27 -> 33317.28 | J27: =H27 -> 33317.28 | K27: =C27-H27-I27-J27 -> 33317.28
C28: =C27/C55 -> #REF!
H29: 0.25 | I29: 0.25 | J29: 0.25 | K29: 0.25
A30: 8 | B30: ='Table 1'!#REF! -> #REF! | C30: ='Table 1'!#REF! -> #REF! | I30: =C30 -> #REF!
C31: =C30/C55 -> #REF!
I32: 1
A33: 9 | B33: ='Table 1'!#REF! -> #REF! | C33: ='Table 1'!#REF! -> #REF! | I33: =C33 -> #REF!
C34: =C33/C55 -> #REF!
I35: 1
A36: 10 | B36: ='Table 1'!#REF! -> #REF! | C36: ='Table 1'!#REF! -> #REF! | J36: =C36 -> #REF!
C37: =C36/C55 -> #REF!
J38: 1
A39: 11 | B39: ='Table 1'!#REF! -> #REF! | C39: ='Table 1'!#REF! -> #REF! | J39: =C39 -> #REF!
C40: =C39/C55 -> #REF!
J41: 1
A42: 12 | B42: ='Table 1'!#REF! -> #REF! | C42: ='Table 1'!#REF! -> #REF! | J42: =C42 -> #REF!
C43: =C42/C55 -> #REF!
J44: 1
A45: 13 | B45: INSTALAÇÕES ELÉTRICAS | C45: ='Table 1'!I53 -> 7436.48 | K45: =C45 -> 7436.48
C46: =C45/C55 -> #REF!
K47: 1
A48: 14 | B48: SPDA | C48: ='Table 1'!I62 -> 9755.15 | K48: =C48 -> 9755.15
C49: =C48/C55 -> #REF!
K50: 1
A51: 15 | B51: COMBATE A INCÊNDIO | C51: ='Table 1'!I68 -> 1410.14 | K51: =C51 -> 1410.14
C52: =C51/C55 -> #REF!
K53: 1
B55: TOTAL SIMPLES | C55: =C9+C12+C15+C18+C21+C24+C27+C30+C45+C48+C51+C42+C39+C36+C33 -> #REF! | E55: =E9+E12+E15 -> 10912.62 | F55: =F15+F18+F21 -> #REF! | G55: =G21+G24 -> #REF! | H55: =H24+H27 -> 97652.68 | I55: =I27+I30+I33 -> #REF! | J55: =J42+J39+J36+J27 -> #REF! | K55: =K51+K48+K45+K27 -> 51919.05
B56: TOTAL ACUMULADO | E56: =E55 -> 10912.62 | F56: =E56+F55 -> #REF! | G56: =F56+G55 -> #REF! | H56: =G56+H55 -> #REF! | I56: =H56+I55 -> #REF! | J56: =I56+J55 -> #REF! | K56: =J56+K55 -> #REF!
B57: % SIMPLES | C57: 1 | E57: =E55/C55 -> #REF! | F57: =F55/C55 -> #REF! | G57: =G55/C55 -> #REF! | H57: =H55/C55 -> #REF! | I57: =I55/C55 -> #REF! | J57: =J55/C55 -> #REF! | K57: =K55/C55 -> #REF!
B58: % ACUMULADO | E58: =E57 -> #REF! | F58: =E58+F57 -> #REF! | G58: =F58+G57 -> #REF! | H58: =G58+H57 -> #REF! | I58: =H58+I57 -> #REF! | J58: =I58+J57 -> #REF! | K58: =J58+K57 -> #REF!
A59: Águia Branca, 12 de novembro de 2024
A60: CARMO | D60: Assinado de forma digital por EVANDRO GERALDO DO CARMO MEDEIROS:73043974620
A61: MEDEIROS:73043974620 Dados: 2024.12.19 12:55:19
A62: EVANDRO GERALDO DO CARMO MEDEIROS
A63: CREA: ES-71.548/D
