Workbook

Sheet PLANILHA
C1: P R E F E I T U R A M U N I C I P A L D E Á G U I A B R A N C A
A5: Obra: Construção da Sede da Prefeitura Municipal Local: Rua DR. Valery Kosvarovik / Praça dos Três Poderes, Bairro Cristo Rei
A6: Preço Base: DER - Edificações, Fevereiro 2025 / DER - Rodovias, Janeiro 2024 sem desoneração / SINAPI-ES , Fevereiro 2025 sem desoneração.
A7: BDI = 31,36% | G7: Data Base: Fevereiro 2025
A8: PLANILHA ORÇAMENTÁRIA
A9: ITEM | B9: CÓDIGO | C9: DESCRIÇÃO | D9: FONTE | E9: UNID. | F9: QUANT | G9: UNITÁRIO SEM BDI | H9: UNITÁRIO COM BDI | I9: PREÇO TOTAL
A11: 1 | B11: SERVIÇOS PRELIMINARES
A12: 1.1 | B12: 010402 | C12: Raspagem e limpeza do terreno (manual) | D12: DER | E12: m² | F12: =1455.4 -> 1455.4 | G12: 4.47 | H12: =G12*1.3136 -> 5.87 | I12: =F12*H12 -> 8543.2 | K12: =H12*F12 -> 8543.2
A13: 1.2 | B13: 010501 | C13: Locação de obra com gabarito de madeira | D13: DER | E13: m² | F13: =1423.84 -> 1423.84 | G13: 10.95 | H13: =G13*1.3136 -> 14.38 | I13: =F13*H13 -> 20474.82 | K13: =H13*F13 -> 20474.82
A14: 1.3 | B14: 010512 | C14: Equipe topográfica para serviços simples de locação e nivelamento (incluindo equipamento, transporte e profissionais nivel médio) | D14: DER | E14: mês | F14: 1 | G14: 23479.53 | H14: =G14*1.3136 -> 30842.71 | I14: =F14*H14 -> 30842.71 | K14: =H14*F14 -> 30842.71
A15: 1.4 | B15: 020305 | C15: Placa de obra nas dimensões de 2.0 x 4.0 m, padrão DER | D15: DER | E15: m² | F15: 8 | G15: 244.44 | H15: =G15*1.3136 -> 321.1 | I15: =F15*H15 -> 2568.8 | K15: =H15*F15 -> 2568.8
A16: 1.5 | B16: 020701 | C16: Barracão para escritório com sanitário área de 14.50 m2, de chapa de compens. 12mm e pontalete 8x8cm, piso cimentado e cobertura de telha de fibroc. 6mm, incl. ponto de luz e cx. de inspeção, conf. projeto (1 utilização) | D16: DER | E16: m² | F16: 14.5 | G16: 827.65 | H16: =G16*1.3136 -> 1087.2 | I16: =F16*H16 -> 15764.4 | K16: =H16*F16 -> 15764.4
A17: 1.6 | B17: 020702 | C17: Barracão para almoxarifado área de 10.90m2, de chapa de compensado de 12mm e pontalete 8x8cm, piso cimentado e cobertura de telhas de fibrocimento de 6mm, incl. ponto de luz, conf. projeto (1 utilização) | D17: DER | E17: m² | F17: 10.9 | G17: 579.35 | H17: =G17*1.3136 -> 761.03 | I17: =F17*H17 -> 8295.23 | K17: =H17*F17 -> 8295.23
A18: 1.7 | B18: 020704 | C18: Refeitório com paredes de chapa de compens. 12mm e pontaletes 8x8cm, piso ciment. e cob. de telhas fibroc. 6mm, incl. ponto de luz e cx. de inspeção (cons. 1.21 m2/func./turno), conf. projeto (1 utilização) | D18: DER | E18: m² | F18: 24.2 | G18: 458.81 | H18: =G18*1.3136 -> 602.69 | I18: =F18*H18 -> 14585.1 | K18: =H18*F18 -> 14585.1
A19: 1.8 | B19: 020708 | C19: Galpão para serraria e carpintaria área 12.00m2, em peça de madeira 8x8cm e contraventamento de 5x7cm, cobertura de telha de fibroc. de 6mm, inclusive ponto e cabo de alimentação da máquina, conf. projeto (1 utilização) | D19: DER | E19: m² | F19: 12 | G19: 201.48 | H19: =G19*1.3136 -> 264.66 | I19: =F19*H19 -> 3175.92 | K19: =H19*F19 -> 3175.92
A20: 1.9 | B20: 020709 | C20: Galpão para corte e armação com área de 6.00m2, em peças de madeira 8x8cm e contraventamento de 5x7cm, cobertura de telhas de fibroc. de 6mm, inclusive ponto e cabo de alimentação da máquina, conf. projeto (1 utilização) | D20: DER | E20: m² | F20: 6 | G20: 271.59 | H20: =G20*1.3136 -> 356.76 | I20: =F20*H20 -> 2140.56 | K20: =H20*F20 -> 2140.56
A21: 1.10 | B21: 020711 | C21: Reservatório de poliestileno de 1000 L, incl. suporte em madeira de 7x12cm e 8x7cm, elevado de 4m, conf. projeto (1 utilização) | D21: DER | E21: und | F21: 1 | G21: 2144.98 | H21: =G21*1.3136 -> 2817.65 | I21: =F21*H21 -> 2817.65 | K21: =H21*F21 -> 2817.65
A22: 1.11 | B22: 020355 | C22: Aluguel mensal container sanitário, incl porta, básc, 2 ptos luz, 1 pto aterram., 3vasos, 3lavatórios, calha mictório, 6 chuveiros (1 eletrico), torn.,registros, piso comp. Naval pintado, cert NR18 e laudo descontaminação | D22: DER | E22: ms | F22: 24 | G22: 1247.4 | H22: =G22*1.3136 -> 1638.58 | I22: =F22*H22 -> 39325.92 | K22: =H22*F22 -> 39325.92
A23: 1.12 | B23: 020713 | C23: Rede de luz, incl. padrão entrada de energia trifás., cabo de ligação até barracões, quadro de distrib., disj. e chave de força (quando necessário), cons. 20m entre padrão entrada e QDG, conf. projeto (1 utilização) | D23: DER | E23: m | F23: 20 | G23: 454.77 | H23: =G23*1.3136 -> 597.39 | I23: =F23*H23 -> 11947.8 | K23: =H23*F23 -> 11947.8
A24: 1.13 | B24: 020712 | C24: Rede de água com padrão de entrada d'água diâm. 3/4", conf. espec. CESAN, incl. tubos e conexões para alimentação, distribuição, extravasor e limpeza, cons. o padrão a 25m, conf. projeto (1 utilização) | D24: DER | E24: m | F24: 25 | G24: 55.94 | H24: =G24*1.3136 -> 73.48 | I24: =F24*H24 -> 1837 | K24: =H24*F24 -> 1837
A25: 1.14 | B25: 020714 | C25: Rede de esgoto, contendo fossa e filtro, inclusive tubos e conexões de ligação entre caixas, considerando distância de 25m, conforme projeto (1 utilização) | D25: DER | E25: m | F25: 25 | G25: 436.14 | H25: =G25*1.3136 -> 572.91 | I25: =F25*H25 -> 14322.75 | K25: =H25*F25 -> 14322.75
... A28: 1.17 | B28: 020339 | C28: Locação de andaime metálico para trabalho em fachada de edifíco (aluguel de 1 m² por 1 mês) inclusive frete, montagem e desmontagem | D28: DER | E28: m² | F28: 12810.24 | G28: 21.13 | H28: =G28*1.3136 -> 27.76 | I28: =F28*H28 -> 355612.26 | K28: =H28*F28 -> 355612.26
A29: SUBTOTAL 01 | I29: =SUM(I12:I28) -> 595727.04 | K29: =H29*F29 -> 0
A30: 2 | B30: FUNDAÇÕES PROFUNDAS | K30: =H30*F30 -> 0
A31: 2.1 | B31: ESTAQUEAMENTO | K31: =H31*F31 -> 0
A32: 2.1.1 | B32: 101173 | C32: ESTACA BROCA DE CONCRETO, DIÂMETRO DE 20CM, ESCAVAÇÃO MANUAL COM TRADO CONCHA, COM ARMADURA DE ARRANQUE. AF_05/2020 | D32: SINAPI | E32: m | F32: 276 | G32: 67.37 | H32: =G32*1.3136 -> 88.5 | I32: =F32*H32 -> 24426 | K32: =H32*F32 -> 24426
A33: 2.1.2 | B33: 101174 | C33: ESTACA BROCA DE CONCRETO, DIÂMETRO DE 25CM, ESCAVAÇÃO MANUAL COM TRADO CONCHA, COM ARMADURA DE ARRANQUE. AF_05/2020 | D33: SINAPI | E33: m | F33: 930 | G33: 94.42 | H33: =G33*1.3136 -> 124.03 | I33: =F33*H33 -> 115347.9 | K33: =H33*F33 -> 115347.9
A34: 2.1.3 | B34: 100899 | C34: ESTACA ESCAVADA MECANICAMENTE, SEM FLUIDO ESTABILIZANTE, COM 25CM DE DIÂMETRO, CONCRETO LANÇADO MANUALMENTE (EXCLUSIVE MOBILIZAÇÃO E DESMOBILIZAÇÃO). AF_01/2020 | D34: SINAPI | E34: m | F34: 580 | G34: 99.21 | H34: =G34*1.3136 -> 130.32 | I34: =F34*H34 -> 75585.6 | K34: =H34*F34 -> 75585.6
A35: 2.1.4 | B35: 100897 | C35: ESTACA ESCAVADA MECANICAMENTE, SEM FLUIDO ESTABILIZANTE, COM 40CM DE DIÂMETRO, CONCRETO LANÇADO POR CAMINHÃO BETONEIRA (EXCLUSIVE MOBILIZAÇÃO E DESMOBILIZAÇÃO). AF_01/2020 | D35: SINAPI | E35: m | F35: 48 | G35: 139.18 | H35: =G35*1.3136 -> 182.83 | I35: =F35*H35 -> 8775.84 | K35: =H35*F35 -> 8775.84
A36: 2.1.5 | B36: 010219 | C36: Demolição manual de concreto armado (EMOP 05.001.033) | D36: DER | E36: m³ | F36: 12.95 | G36: 335.21 | H36: =G36*1.3136 -> 440.33 | I36: =F36*H36 -> 5702.27 | K36: =H36*F36 -> 5702.27
A37: SUBTOTAL 02 | I37: =SUM(I32:I36) -> 229837.61 | K37: =H37*F37 -> 0
A38: 3 | B38: MOVIMENTAÇÃO DE TERRA | K38: =H38*F38 -> 0
A39: 3.1 | B39: 030101 | C39: Escavação manual em material de 1a. categoria, até 1.50 m de profundidade | D39: DER | E39: m³ | F39: 209.45 | G39: 58.11 | H39: =G39*1.3136 -> 76.33 | I39: =F39*H39 -> 15987.32 | K39: =H39*F39 -> 15987.32
A40: 3.2 | B40: 030201 | C40: Reaterro apiloado de cavas de fundação, em camadas de 20 cm | D40: DER | E40: m³ | F40: =171.73 -> 171.73 | G40: 62.58 | H40: =G40*1.3136 -> 82.21 | I40: =F40*H40 -> 14117.92 | K40: =H40*F40 -> 14117.92
A41: 3.3 | B41: 030206 | C41: Aterro manual para regularização do terreno em areia, inclusive adensamento hidráulico e fornecimento do material (máximo de 100m3) | D41: DER | E41: m³ | F41: 263.66 | G41: 200.58 | H41: =G41*1.3136 -> 263.48 | I41: =F41*H41 -> 69469.14 | K41: =H41*F41 -> 69469.14
A42: SUBTOTAL 03 | I42: =SUM(I39:I41) -> 99574.38 | K42: =H42*F42 -> 0
A43: 4 | B43: INFRA-ESTRUTURA | K43: =H43*F43 -> 0
A44: 4.1 | B44: 040231 | C44: Fornecimento, preparo e aplicação de concreto magro com consumo mínimo de cimento de 250 kg/m3 (brita 1 e 2) - (5% de perdas já incluído no custo) | D44: DER | E44: m³ | F44: =4.67 -> 4.67 | G44: 670.16 | H44: =G44*1.3136 -> 880.32 | I44: =F44*H44 -> 4111.09 | K44: =H44*F44 -> 4111.09
A45: 4.2 | B45: 040250 | C45: Fôrma de tábua de madeira de 2.5x30.0cm, levando-se em conta utilização 3 vezes (incluindo o material, corte, montagem, escoramento e desforma) | D45: DER | E45: m² | F45: =235.59 -> 235.59 | G45: 100.48 | H45: =G45*1.3136 -> 131.99 | I45: =F45*H45 -> 31095.52 | K45: =H45*F45 -> 31095.52
A46: 4.3 | B46: 040315 | C46: Fornecimento, preparo e aplicação de concreto Fck = 30 MPa (com brita 1 e 2) - (5% de perdas já incluído no custo) | D46: DER | E46: m³ | F46: 37.72 | G46: 870.83 | H46: =G46*1.3136 -> 1143.92 | I46: =F46*H46 -> 43148.66 | K46: =H46*F46 -> 43148.66
...

Sheet BDI
B2: MODELO - 3º FAIXA
B10: Obra: Construção da Sede da Prefeitura Municipal
B11: Município: Águia Branca / ES
B12: Endereço: Rua DR. Valery Kosvarovik / Praça dos Três Poderes, Bairro Cristo Rei
B14: BDI
B15: DEMONSTRATIVO BDI
B16: ITEM | E16: VALOR
B17: Administração Central | E17: 3.26
B18: Administração Local | E18: 7.63
B19: Impostos/Tributos
B20: ISS | E20: 5
B21: PIS | E21: 0.65
B22: COFINS | E22: 3
B23: Custos Financeiros | E23: 0.61
B24: Riscos, Garantias e Seguro | E24: 1.5
B25: Lucro | E25: 7
B27: FÓRMULA
B29: BDI = { [ (1+AC/100+AL/100+S/100+R/100+G/100+DF/100+L/100) / (1-I/100)] -1} x 100
B33: TOTAL DO BDI | E33: =((E17+E18+E23+E25+E24)/100+1)/(1-(E20+E21+E22)/100)-1 -> 0.3136

Sheet MEMÓRIA DE CALCULO
B1: P R E F E I T U R A M U N I C I P A L D E Á G U I A B R A N C A
A5: MEMORIAL DE CÁLCULO
A6: ITEM | B6: DESCRIÇÃO | C6: UNID. | D6: MEMÓRIA
A8: 1 | B8: SERVIÇOS PRELIMINARES
A9: 1.1 | B9: Raspagem e limpeza do terreno (manual) | C9: m² | D9: Área do Terreno = 1.455,40m² - Vide Projeto Topografia / Prancha 01/01
A10: 1.2 | B10: Locação de obra com gabarito de madeira | C10: m² | D10: Pavimento Térreo = 376,66m² Estacionamento / Pavimentação = 445,95m² Urbanização / Grama = 226,80m² Passeio = 365,35m² Guarita = 9,08m² Total Geral = 1.423,84m²
A11: 1.3 | B11: Equipe topográfica para serviços simples de locação e nivelamento (incluindo equipamento, transporte e profissionais nivel médio) | C11: mês | D11: Equipe = 1,00 x 1,00 ( mês ) = 1,00 mês Total Geral = 1,00mês
A12: 1.4 | B12: Placa de obra nas dimensões de 2.0 x 4.0 m, padrão IOPES | C12: m² | D12: A = 4,00 x 2,00 = 8,00m² Total Geral = 8,00m²
A13: 1.5 | B13: Barracão para escritório com sanitário área de 14.50 m2, de chapa de compens. 12mm e pontalete 8x8cm, piso cimentado e cobertura de telha de fibroc. 6mm, incl. ponto de luz e cx. de inspeção, conf. projeto (1 utilização) | C13: m² | D13: A = 4,83m x 3,00m = 14,50m² Total Geral = 14,50m²
A14: 1.6 | B14: Barracão para almoxarifado área de 10.90m2, de chapa de compensado de 12mm e pontalete 8x8cm, piso cimentado e cobertura de telhas de fibrocimento de 6mm, incl. ponto de luz, conf. projeto (1 utilização) | C14: m² | D14: A = 3,63m x 3,00m = 10,90m² Total Geral = 10,90m²
A15: 1.7 | B15: Refeitório com paredes de chapa de compens. 12mm e pontaletes 8x8cm, piso ciment. e cob. de telhas fibroc. 6mm, incl. ponto de luz e cx. de inspeção (cons. 1.21 m2/func./turno), conf. projeto (1 utilização) | C15: m² | D15: A = 1,21m x 20 = 24,20m² Dim. = 8,06m x 3,00m = 24,20m² Total Geral = 24,20m²
A16: 1.8 | B16: Galpão para serraria e carpintaria área 12.00m2, em peça de madeira 8x8cm e contraventamento de 5x7cm, cobertura de telha de fibroc. de 6mm, inclusive ponto e cabo de alimentação da máquina, conf. projeto (1 utilização) | C16: m² | D16: A = 6,00m x 2,00 = 12,00m² Total Geral = 12,00m²
A17: 1.9 | B17: Galpão para corte e armação com área de 6.00m2, em peças de madeira 8x8cm e contraventamento de 5x7cm, cobertura de telhas de fibroc. de 6mm, inclusive ponto e cabo de alimentação da máquina, conf. projeto (1 utilização) | C17: m² | D17: A = 3,00m x 2,00 = 6,00m² Total Geral = 6,00m²
A18: 1.10 | B18: Reservatório de poliestileno de 1000 L, incl. suporte em madeira de 7x12cm e 8x7cm, elevado de 4m, conf. projeto (1 utilização) | C18: m² | D18: Q = 1,00und Total Geral = 1,00und
A19: 1.11 | B19: Aluguel mensal container sanitário, incl porta, básc, 2 ptos luz, 1 pto aterram., 3vasos, 3lavatórios, calha mictório, 6 chuveiros (1 eletrico), torn.,registros, piso comp. Naval pintado, cert NR18 e laudo descontaminação | C19: m² | D19: Q = 1,00und x 24mês Total Geral = 24,00mês
A20: 1.12 | B20: Rede de luz, incl. padrão entrada de energia trifás., cabo de ligação até barracões, quadro de distrib., disj. e chave de força (quando necessário), cons. 20m entre padrão entrada e QDG, conf. projeto (1 utilização) | C20: m | D20: Total Geral = 20,00 m
... A25: 1.17 | B25: Locação de andaime metálico para trabalho em fachada de edifíco (aluguel de 1 m² por 1 mês) inclusive frete, montagem e desmontagem | C25: m² | D25: Q = 22,76+5,11+15,46+12,32+1,64+3,70+11,50+9,44+5,30+3,10+3,65+6,10 = 100,08m x h=(8,00m) x 16mês = 12.810,24m² Total Geral = 12.810,24m²
A26: 2.1 | B26: ESTAQUEAMENTO
A27: 2.1.1 | B27: ESTACA BROCA DE CONCRETO, DIÂMETRO DE 20CM, ESCAVAÇÃO MANUAL COM TRADO CONCHA, COM ARMADURA DE ARRANQUE. AF_05/2020 | C27: m | D27: C20 = B3(5,0 x 1) + B47(2,0 x 1) + B41/42/44/45(4,0 x 4) = 23 und x H(12,00 m) = 276m Total Geral = 276,00m
A28: 2.1.2 | B28: ESTACA BROCA DE CONCRETO, DIÂMETRO DE 25CM, ESCAVAÇÃO MANUAL COM TRADO CONCHA, COM ARMADURA DE ARRANQUE. AF_05/2020 | C28: m | D28: C23 = B1/4/5/12/17/25/32/48(3,0 x 8) + B6/7/16(2,0 x 3) + B8/10/15/27(6,0 x 4) + B22(7,0 x 1) + B13/43(5,0 x 2) + B49(2,0 x 1) + B39/40(3,0 x 2) + B50/51(2,0 x 2) + B21(4,0 x 1) + B36(6,0 x 1) = 93 und x H(10,00 m) = 930m Total Geral = 930,00m
A29: 2.1.3 | B29: ESTACA ESCAVADA MECANICAMENTE, SEM FLUIDO ESTABILIZANTE, COM 25CM DE DIÂMETRO, CONCRETO LANÇADO MANUALMENTE (EXCLUSIVE MOBILIZAÇÃO E DESMOBILIZAÇÃO). AF_01/2020 | C29: m | D29: C26 = B28/52(2,0x2) + B2/9/20/23/24/26/31/33/34(3,0 x 9) + B30/35(3,0 x 2) + B11/14/18(5,0 x 3) + B29(2,0 x 1) + B19(2,0 x 1) + B38(2,0 x 1) = 58 und x H(10,00m) = 580m Total Geral = 580,00m
A30: 2.1.4 | B30: ESTACA ESCAVADA MECANICAMENTE, SEM FLUIDO ESTABILIZANTE, COM 40CM DE DIÂMETRO, CONCRETO LANÇADO POR CAMINHÃO BETONEIRA (EXCLUSIVE MOBILIZAÇÃO E DESMOBILIZAÇÃO). AF_01/2020 | C30: m | D30: C33= B37(2,0 x 1) + B46(2,0 x 1)= 4 und x H(12,00m) = 48,00m Total Geral = 48,00m
A31: 2.1.5 | B31: Demolição manual de concreto armado (EMOP 05.001.033) | C31: m³ | D31: Arrasamento de Estaca ø20cm = (3,1416 x 0,20²)/4 x 1,50 x 23 = 1,08m³ Arrasamento de Estaca ø25cm = (3,1416 x 0,25²)/4 x 1,50 x 151 = 11,12m³ Arrasamento de Estaca ø40cm = (3,1416 x 0,40²)/4 x 1,50 x 4 = 0,75m³ Total Geral = 12,95m³
A32: 3 | B32: MOVIMENTAÇÃO DE TERRA
A33: 3.1 | B33: Escavação manual em material de 1a. categoria, até 1.50 m de profundidade | C33: m³ | D33: Vescavação = (B + 40cm) x (L + 40cm) x (H + 10cm) B1/4/5/12/17/25/32/48/39/40 = (1,19 x 1,03) = (1,59 x 1,43) x 1,5 x 10 = 34,11m³ B2/9/20/23/24/26/31/33/34/30/35 = (1,30 x 1,12) = (1,70 x 1,52) x 1,50 x 11 = 42,64m³ B3 = (1,21 x 1,21) = (1,61 x 1,61 x 1,50) = 3,89m³ B6/16/7 = (1,11 X 0,53) = (1,51 x 0,93) x 1,50 x 3 = 6,32m³ B37 = (1,46 x 0,63) = (1,86 x 1,03) x 1,50 x 1 = 2,87m³ B47 = (1,00 x 0,50) = (1,40 x 0,90) x 1,50 = 1,89m³ B8/10/15/27 = (1,69 x 1,11) = (2,09 x 1,51) x 1,50 x 4 = 18,94m³ B22 = (2,35 x 1,03) = (2,75 x 1,43) x 1,50 = 5,90m³ B13/43 = (1,35 x 1,35) = (1,75 x 1,75) x 1,50 x 2 = 9,19m³ B11/14/18 = (1,48 x 1,48) = (1,88 x 1,88) x 1,50 x 3 = 15,90m³ B41/42/44/45 = (1,00 x 1,00) = (1,40 x 1,40) x 1,50 x 4 = 11,76m³ B21 = (1,11 x 1,11) = (1,51 x 1,51) x 1,50 = 3,42m³ B36 = (1,69 x 1,11) = (2,09 x 1,51) x 1,50 = 4,73m³ B49/50/51 = (1,11 x 0,53) = (1,51 x 0,93) x 1,50 x 3 = 6,32m³ B46 = (1,46 x 0,63) = (1,86 x 1,03) x 1,50 = 2,87m³ B19/38/29/28/52 = (1,21 x 0,56) = (1,61 x 1,06) x 1,50 x 5 = 12,80m³ Total Escavação Blocos = 183,55m³ Vigas de Baldrame (14x30) (22,69+1,69+2x1,99+4,73+2,79+9,35+3+6,01+3,32+5,28+2x1,99+2x7,14+5,12+15,58 3x1,11+9,93+3x3,67+1,52+9,47) = (137,06 x 0,54 x 0,35) = 25,90m³ Total Escavação Vigas de Baldrame = 25,90m³ Total Geral = 209,45m³
A34: 3.2 | B34: Reaterro apiloado de cavas de fundação, em camadas de 20 cm | C34: m³ | D34: V= Volume de escavação dos blocos de fundação - volume de concreto dos blocos de fundação - volume dos pilaretes de arranque: V = 209,45 - 37,72 = 171,73m² Total Geral = 171,73m³
A35: 3.3 | B35: Aterro manual para regularização do terreno em areia, inclusive adensamento hidráulico e fornecimento do material (máximo de 100m3) | C35: m³ | D35: V = 376,66m² x 0,70m = 263,66m³ Total Geral = 263,66m³
A36: 4 | B36: INFRA-ESTRUTURA
A37: 4.1 | B37: Fornecimento, preparo e aplicação de concreto magro com consumo mínimo de cimento de 250 kg/m3 (brita 1 e 2) - (5% de perdas já incluído no custo) | C37: m³ | D37: V = área Bloco x 0,05cm B1/4/5/12/17/25/32/48/39/40 = (1,19 x 1,03) 0,05 x 10 = 0,61m³ B2/9/20/23/24/26/31/33/34/30/35 = (1,30 x 1,12) x 0,05 x 11 = 0,80m³ B3 = (1,21 x 1,21) 0,05 = 0,07m³ B6/16/7 = (1,11 X 0,53) x 0,05 x 3 = 0,09m³ B37 = (1,46 x 0,63) x 0,05 = 0,04m³ B47 = (1,00 x 0,50) x 0,05 = 0,02m³ B8/10/15/27 = (1,69 x 1,11) x 0,05 x 4 = 0,38m³ B22 = (2,35 x 1,03) x 0,05 = 0,12m³ B13/43 = (1,35 x 1,35) x 0,05 x 2 = 0,18m³ B11/14/18 = (1,48 x 1,48) x 0,05 x 3 = 0,33m³ B41/42/44/45 = (1,00 x 1,00) x 0,05 x 4 = 0,20m³ B21 = (1,11 x 1,11) x 0,05 = 0,06m³ B36 = (1,69 x 1,11) x 0,05 = 0,09m³ B49/50/51 = (1,11 x 0,53) x 0,05 x 3 = 0,09m³ B46 = (1,46 x 0,63) x 0,05 = 0,05m³ B19/38/29/28/52 = (1,21 x 0,56) x 0,05 x 5 = 0,17m³ Total Magro Blocos = 3,30m³ Vigas de Baldrame (14x30) (22,69+1,69+2x1,99+4,73+2,79+9,35+3+6,01+3,32+5,28+2x1,99+2x7,14+5,12+15,58+3x1,11+9,93+3x3,67+1,52+9,47) = (137,06 x 0,20 x 0,05) = 1,37m³ Total Magro Vigas de Baldrame = 1,37m³ Total Geral = 4,67m³
A38: 4.2 | B38: Fôrma de tábua de madeira de 2.5x30.0cm, levando-se em conta utilização 3 vezes (incluindo o material, corte, montagem, escoramento e desforma) | C38: m² | D38: INFRA-ESTRUTURA Blocos de Fundação: Prancha 02/35 = 44,40m² Prancha 03/35 = 30,98m² Prancha 04/35 = 30,27m² Prancha 05/35 = 30,97m² Vigas do Baldrame: Prancha 19/35 = 98,97m² Total Geral= 235,59m²
A39: 4.3 | B39: Fornecimento, preparo e aplicação de concreto Fck = 30 MPa (com brita 1 e 2) - (5% de perdas já incluído no custo) | C39: m³ | D39: INFRA-ESTRUTURA Blocos de Fundação: Prancha 02/35 = 11,31m³ Prancha 03/35 = 7,61m³ Prancha 04/35 = 6,81m³ Prancha 05/35 = 6,37m³ Vigas do Baldrame: Prancha 19/35 = 5,62m³ Total Geral= 37,72m³
A40: 4.4 | B40: Fornecimento, dobragem e colocação em fôrma, de armadura CA-50 A média, diâmetro de 6.3 a 10.0 mm | C40: kg | D40: INFRA-ESTRUTURA Blocos de Fundação: Prancha 02/35 = 163,30Kg Prancha 03/35 = 101,60Kg Prancha 04/35 = 122,40Kg Prancha 05/35 = 93,70Kg Vigas do Baldrame: Prancha 19/35 = 346,70Kg Total Geral= 827,70Kg
A41: 4.5 | B41: Fornecimento, dobragem e colocação em fôrma, de armadura CA-50 A grossa diâmetro de 12.5 a 25.0 mm (1/2 a 1") | C41: kg | D41: INFRA-ESTRUTURA Blocos de Fundação: Prancha 02/35 = 92,2Kg Prancha 03/35 = 155,50Kg Prancha 04/35 = 147,30Kg Prancha 05/35 = 68,90Kg Vigas do Baldrame: Prancha 19/35 = 3,20Kg Total Geral= 467,10Kg
A42: 4.6 | B42: Fornecimento, dobragem e colocação em fôrma, de armadura CA-60 B fina, diâmetro de 4.0 a 7.0mm | C42: kg | D42: INFRA-ESTRUTURA Blocos de Fundação: Prancha 02/35 = 160,80Kg Prancha 03/35 = 107,30Kg Prancha 04/35 = 110,00Kg Prancha 05/35 = 106,70Kg Vigas do Baldrame: Prancha 19/35 = 105,80Kg Total Geral= 590,60Kg
A43: 5 | B43: SUPRA-ESTRUTURA
A44: 5.1 | B44: Fôrma com chapa compensada plastificada esp. 12mm, utização 5 vezes | C44: m² | D44: VIGAS DO TÉRREO Área = 258,56M² LAJES DO TÉRREO Área = 34,05m² VIGAS 01 PAVIMENTO Área = 242,93m² LAJES DO 01 PAVIMENTO Área = 18,10m² VIGAS COBERTURA Área = 266,44m² LAJE TÉCNICA Área = 30,92m² PILARES Área = 478,43m² ESCADA Área = 30,00m² TOTAL GERAL=1.359,43m²
A45: 5.2 | B45: Fornecimento e aplicação de concreto USINADO Fck=30 MPa - considerando BOMBEAMENTO (5% de perdas já incluído no custo) (6% de taxa p/ concr. bombeavel) | C45: m³ | D45: VIGAS TÉRREO Volume = 15,58m³ LAJES DO TÉRREO Volume = 26,42m³ VIGAS 01 PAVIMENTO Volume = 14,49m³ LAJES DO 01 PAVIMENTO Volume = 18.63m³ VIGAS COBERTURA Volume = 14,84m³ LAJES COBERTURA Volume = 21,40m³ PILARES Volume = 25,44m³ LAJE TÉCNICA Volume= 1,84m³ ESCDA Volume = 3,12m³ TOTAL GERAL = 141,76m³
A46: 5.3 | B46: Fornecimento, dobragem e colocação em fôrma, de armadura CA-50 A média, diâmetro de 6.3 a 10.0mm | C46: kg | D46: Armadura Média = 1.191,02 + 2.515,00 = 3.706,02 Kg TOTAL GERAL = 3.706,02 Kg
A47: 5.4 | B47: Fornecimento, dobragem e colocação em fôrma, de armadura CA-50 A grossa, diâmetro de 12.5 a 25.0mm | C47: kg | D47: Armadura Grossa = 1.983,40 + 664,90 = 2.648,30 Kg TOTAL GERAL = 2.648,30 Kg
A48: 5.5 | B48: Fornecimento, dobragem e colocação em fôrma, de armadura CA-60 B fina, diâmetro de 4.0 a 7.0mm | C48: kg | D48: Armadura Fina = 762,60 + 828,30 = 1.590,90 kg TOTAL GERAL = 1.590,90 Kg
...

Sheet MEMÓRIA CÁLC. FONTE
A1: MEMÓRIA DE CÁLCULO - FONTE
A5: ITEM | B5: DESCRIÇÃO DOS SERVIÇOS | C5: REFER. | D5: QUANT. | E5: Kg | F5: COMP (m) | G5: LARG (m) | H5: ALTURA (m) | I5: ESPESSURA (m) | J5: L/M | K5: SC | L5: PER. | M5: MÊS | N5: H | O5: ÁREA (m²) | P5: VOLUME (m³) | Q5: FATOR | R5: SUB-TOTAL | S5: UNIDADE | T5: TOTAL | V5: OBSERVAÇÕES GERAIS
A6: 18 | B6: =PLANILHA!B252 -> FONTE / CHAFARIZ ( 18 JATOS )
A7: 18.1 | B7: =PLANILHA!B253 -> SERVIÇOS PRELIMINARES
A8: 18.1.1 | B8: =PLANILHA!C254 -> Locação de obra com gabarito de madeira | S8: m² | T8: =R9 -> 128
F9: 16 | G9: 8 | R9: =TRUNC(((G9*F9)),2) -> 128
A10: 18.1.2 | B10: =PLANILHA!C255 -> Tapume Telha Metálica Ondulada em aço galvalume 0,50mm Branca h=2,20m, incl. montagem estr. mad. 8"x8", c/adesivo "DER-ES" 60x60cm a cada 10m, incl. faixas pint. esmalte sint. cores azul c/ h=30cm e rosa c/ h=10cm (Reaproveitamento 2x) | S10: m² | T10: =R11 -> 64
F11: 22 | R11: =SUM(F11:F14) -> 64
F12: 10
F13: 22
F14: 10
A15: 18.2 | B15: =PLANILHA!B256 -> ESCAVAÇÕES E ATERRO
A16: 18.2.1 | B16: =PLANILHA!C257 -> Escavação manual em material de 1a. categoria, até 1.50 m de profundidade | S16: m³ | T16: =TRUNC(((SUM(R17+R18))),2) -> 91.11
B17: AREA MOLHADA | F17: 7.8 | G17: 5.4 | H17: 1 | M17: ( FATOR DE 20% PARA AREA ADICIONAL DE TRABALHO): | Q17: 1.2 | R17: =TRUNC(((G17*H17*F17*Q17)),2) -> 50.54
B18: ESTRUTURA CASA DE MAQUINAS | F18: 4.9 | G18: 2.3 | H18: 3 | M18: ( FATOR DE 20% PARA AREA ADICIONAL DE TRABALHO): | Q18: 1.2 | R18: =TRUNC(((G18*H18*F18*Q18)),2) -> 40.57
A19: 18.3 | B19: =PLANILHA!B258 -> ESTRUTURA CASA DE MAQUINAS
A20: 18.3.1 | B20: =PLANILHA!C259 -> Fornecimento, dobragem e colocação em fôrma, de armadura CA-50 A média, diâmetro de 6.3 a 10.0 mm | S20: Kg | T20: =TRUNC(((SUM(R21:R31))),2) -> 529.85
B21: N1 | C21: Ø 10.0 | D21: 16 | E21: =F21*Q21 -> 2.99245 | F21: 4.85 | O21: FATOR = KG/m = | Q21: 0.617 | R21: =TRUNC(((E21*D21)),2) -> 47.87
B22: N2 | C22: Ø 10.0 | D22: 32 | E22: =F22*Q22 -> 1.38825 | F22: 2.25 | O22: FATOR = KG/m = | Q22: 0.617 | R22: =TRUNC(((E22*D22)),2) -> 44.42
B23: N3 | C23: Ø 8.0 | D23: 22 | E23: =F23*Q23 -> 1.20475 | F23: 3.05 | O23: FATOR = KG/m = | Q23: 0.395 | R23: =TRUNC(((E23*D23)),2) -> 26.5
B24: N4 | C24: Ø 8.0 | D24: 11 | E24: =F24*Q24 -> 5.6485 | F24: 14.3 | O24: FATOR = KG/m = | Q24: 0.395 | R24: =TRUNC(((E24*D24)),2) -> 62.13
B25: N5 | C25: Ø 8.0 | D25: 11 | E25: =F25*Q25 -> 5.293 | F25: 13.4 | O25: FATOR = KG/m = | Q25: 0.395 | R25: =TRUNC(((E25*D25)),2) -> 58.22
B26: N6 | C26: Ø 8.0 | D26: 16 | E26: =F26*Q26 -> 0.61225 | F26: 1.55 | O26: FATOR = KG/m = | Q26: 0.395 | R26: =TRUNC(((E26*D26)),2) -> 9.79
B27: N7 | C27: Ø 8.0 | D27: 150 | E27: =F27*Q27 -> 0.948 | F27: 2.4 | O27: FATOR = KG/m = | Q27: 0.395 | R27: =TRUNC(((E27*D27)),2) -> 142.2
B28: N8 | C28: Ø 8.0 | D28: 32 | E28: =F28*Q28 -> 0.5925 | F28: 1.5 | O28: FATOR = KG/m = | Q28: 0.395 | R28: =TRUNC(((E28*D28)),2) -> 18.96
B29: N9 | C29: Ø 8.0 | D29: 32 | E29: =F29*Q29 -> 0.711 | F29: 1.8 | O29: FATOR = KG/m = | Q29: 0.395 | R29: =TRUNC(((E29*D29)),2) -> 22.75
B30: N10 | C30: Ø 8.0 | D30: 16 | E30: =F30*Q30 -> 2.70575 | F30: 6.85 | O30: FATOR = KG/m = | Q30: 0.395 | R30: =TRUNC(((E30*D30)),2) -> 43.29
B31: N11 | C31: Ø 8.0 | D31: 32 | E31: =F31*Q31 -> 1.67875 | F31: 4.25 | O31: FATOR = KG/m = | Q31: 0.395 | R31: =TRUNC(((E31*D31)),2) -> 53.72
A32: 18.3.2 | B32: =PLANILHA!C260 -> Fôrma em chapa de madeira compensada plastificada 12mm para estrutura em geral, 5 reaproveitamentos, reforçada com sarrafos de madeira 2.5x10cm (incl material, corte, montagem, escoras em eucalipto e desforma) | S32: m² | T32: =TRUNC(((SUM(R33:R53))),2) -> 101.3
B33: parede externa | F33: 4.9 | H33: 2.6 | R33: =TRUNC(((F33*H33)),2) -> 12.7
F34: 4.3 | H34: 2.6 | R34: =TRUNC(((F34*H34)),2) -> 11.2
F35: 4.9 | H35: 2.6 | R35: =TRUNC(((F35*H35)),2) -> 12.7
F36: 4.3 | H36: 2.6 | R36: =TRUNC(((F36*H36)),2) -> 11.2
B37: parede interna | F37: 1.5 | H37: 2.1 | R37: =TRUNC(((F37*H37)),2) -> 3.2
F38: 2 | H38: =H37 -> 2.1 | R38: =TRUNC(((F38*H38)),2) -> 4.2
F39: 1.5 | H39: =H38 -> 2.1 | R39: =TRUNC(((F39*H39)),2) -> 3.2
F40: 2 | H40: =H39 -> 2.1 | R40: =TRUNC(((F40*H40)),2) -> 4.2
B41: parede interna | F41: 2 | H41: 2.1 | R41: =TRUNC(((F41*H41)),2) -> 4.2
F42: 0.8 | H42: 2.1 | R42: =TRUNC(((F42*H42)),2) -> 1.7
F43: 2 | H43: 1.3 | R43: =TRUNC(((F43*H43)),2) -> 2.6
...

Sheet COMP-01
A1: COMPOSIÇÃO 01
G6: Data Base: FEVEREIRO/2025
A8: Serviço: Laje pré-fabricada treliçada (H=12cm), sobrecarga 300 Kg/m², vãos até 5.0m, capeamento de 4cm, elemento de enchimento em bloco EPS, espessura final da laje (H=16cm), inclusive armadura de distribuição 5.0 cada 15cm | H8: Unidade: m²
A11: MÃO DE OBRA | B11: Unid | C11: Código | D11: Coefic. | E11: C. Prod. | F11: Pr. Prod. | G11: Pr. Improd. | H11: Pr. Unit. | I11: Subtotal
A12: ARMADOR (OFICIAL - SINDUSCON) | B12: H | C12: 10121 | D12: 0.15 | E12: 1 | F12: 24.1 | G12: 0 | H12: 24.1 | I12: =D12*H12 -> 3.62
A13: CARPINTEIRO (OFICIAL - SINDUSCON) | B13: H | C13: 10111 | D13: 0.81 | E13: 1 | F13: 24.1 | G13: 0 | H13: 24.1 | I13: =D13*H13 -> 19.52
A14: PEDREIRO (OFICIAL - SINDUSCON) | B14: H | C14: 10139 | D14: 0.47 | E14: 1 | F14: 24.1 | G14: 0 | H14: 24.1 | I14: =D14*H14 -> 11.33
A15: SERVENTE (AUXILIAR DE OBRAS - SINDUSCON) | B15: H | C15: 10146 | D15: 1.43 | E15: 1 | F15: 17.88 | G15: 0 | H15: 17.88 | I15: =D15*H15 -> 25.57
A16: SubTotal: | I16: =SUM(I12:I15) -> 60.04
A18: MATERIAL | B18: Unid | C18: Código | D18: Coefic. | E18: C. Prod. | F18: Pr. Prod. | G18: Pr. Improd. | H18: Pr. Unit. | I18: Subtotal
A19: AREIA LAVADA MEDIA | B19: M³ | C19: 20503 | D19: 0.06 | E19: 1 | F19: 143.33 | G19: 0 | H19: 143.33 | I19: =D19*F19 -> 8.6
A20: CIMENTO PORTLAND CP III - 40 | B20: KG | C20: 20508 | D20: 22.57 | E20: 1 | F20: 0.57 | G20: 0 | H20: 0.57 | I20: =D20*F20 -> 12.86
A21: BRITA 1 | B21: M³ | C21: 20517 | D21: 0.015 | E21: 1 | F21: 156.71 | G21: 0 | H21: 156.71 | I21: =D21*F21 -> 2.35
A22: BRITA 2 | B22: M³ | C22: 20518 | D22: 0.0408 | E22: 1 | F22: 156.71 | G22: 0 | H22: 2.28 | I22: =D22*F22 -> 6.39
A23: SARRAFO DE MADEIRA PINUS 10 X 2.5CM | B23: M | C23: 20985 | D23: 0.67 | E23: 1 | F23: 5.94 | G23: 0 | H23: 5.94 | I23: =D23*F23 -> 3.98
A24: TABUA DE MADEIRA PINUS 30 X 2.5 CM (TAIPA DE 1ª) | B24: M² | C24: 20987 | D24: 0.189 | E24: 1 | F24: 51.22 | G24: 0 | H24: 51.22 | I24: =D24*F24 -> 9.68
A25: PONTALETE DE MADEIRA BRUTA DE 3ª 8.0 X 8.0 CM | B25: M | C25: 21009 | D25: 1.13 | E25: 1 | F25: 9.85 | G25: 0 | H25: 9.85 | I25: =D25*F25 -> 11.13
A26: ARAME RECOZIDO N.18 BWG | B26: M²KG | C26: 27010 | D26: 0.02 | E26: 1 | F26: 12.38 | G26: 0 | H26: 12.38 | I26: =D26*F26 -> 0.25
A27: ACO CA-60 DE 5.0MM ( DISTRIBUIÇÃO C/ 15cm ) | B27: M² | C27: 21543 | D27: 2.16 | E27: 1 | F27: 7.89 | G27: 0 | H27: 17.8 | I27: =D27*F27 -> 17.04
A28: ACO CA-50 DE 8.0MM - (REFORÇO VIGOTAS) | B28: KG | C28: 21517 | D28: 4.74 | E28: 1 | F28: 6.8 | G28: 0 | H28: 6.8 | I28: =D28*F28 -> 32.23
A29: LAJE PRE-FABRICADA TRELIÇADA H= 12CM - SOBRECARGA 300 KG/M2 - PARA PISO - EXCLUSIVE CAPEAMENTO | B29: M² | C29: 7534 - ORSE | D29: 1 | E29: 1 | F29: 70.97 | G29: 0 | H29: 70.97 | I29: =D29*F29 -> 70.97
A30: SubTotal: | I30: =SUM(I19:I29) -> 175.48
A32: RESUMO
A33: DISCRIMINAÇÃO | D33: TAXA(%) | E33: VALORES
A34: Mão-de-Obra(A) | D34: 157.27 | E34: =I16 -> 60.04
A35: Materiais(B) | E35: =I30 -> 175.48
A36: Equipamentos(C) | E36: 0
A37: Produção da Equipe(D) | E37: 1
A38: Custo Horário Total(A+C) | E38: =I16+E36 -> 60.04
A39: Custo Unitário da Execução[(A/D)+(C/D)] = E | E39: =(E34/E37)+(E36/E37) -> 60.04
A40: Custo Direto Total(B+E) | E40: =E35+E39 -> 235.52
A41: Bonificações e Despesas Indiretas - BDI | D41: 0 | E41: 0
A42: CUSTO UNITÁRIO (Adotado) | E42: =E40+E41 -> 235.52

Sheet COMP-02
A1: COMPOSIÇÃO 02
G6: Data Base: FEVEREIRO/2025
A8: Serviço: Ponto para rede lógica em caixa de pvc amarela 4x2", com conector RJ-45 fêmea e caixa 4x4" PVC amarela | H8: Unidade: und
A11: MÃO DE OBRA | B11: Unid | C11: Código | D11: Coefic. | E11: C. Prod. | F11: Pr. Prod. | G11: Pr. Improd. | H11: Pr. Unit. | I11: Subtotal
A12: AJUDANTE (AJUDANTE PRATICO - SINDUSCON) | B12: H | C12: 10101 | D12: 6.52 | E12: 1 | F12: 20.32 | G12: 0 | H12: 20.32 | I12: =D12*H12 -> 132.49
A13: ELETRICISTA (OFICIAL - SINDUSCON) | B13: H | C13: 10115 | D13: 6.52 | E13: 1 | F13: 20.32 | G13: 0 | H13: 24.1 | I13: =D13*H13 -> 157.13
A14: SubTotal: | I14: =SUM(I12:I13) -> 289.62
A16: MATERIAL | B16: Unid | C16: Código | D16: Coefic. | E16: C. Prod. | F16: Pr. Prod. | G16: Pr. Improd. | H16: Pr. Unit. | I16: Subtotal
A17: CAIXA PVC 4" X 4" TIGREFLEX | B17: UN | C17: 41588 | D17: 1 | E17: 1 | F17: 4.59 | G17: 0 | H17: 4.59 | I17: =D17*F17 -> 4.59
A18: ELETRODUTO DE PVC RIGIDO 3/4" - ROSCAVEL SEM LUVA | B18: M | C18: 42502 | D18: 7.722 | E18: 1 | F18: 4.1 | G18: 0 | H18: 4.1 | I18: =D18*F18 -> 31.66
A19: CABO UTP 4 PARES CAT 5E | B19: M | C19: 43127 | D19: 10 | E19: 1 | F19: 3.18 | G19: 0 | H19: 3.18 | I19: =D19*F19 -> 31.8
A20: CAIXA PVC 4 X 2" - IP40 - TIGRE OU EQUIVALENTE | B20: UN | C20: 45104 | D20: 1 | E20: 1 | F20: 2.28 | G20: 0 | H20: 2.28 | I20: =D20*F20 -> 2.28
A21: ESPELHO 4X4", LINHA BRANCA COM SUPORTE PARA ENCAIXE | B21: UN | C21: 45526 | D21: 1 | E21: 1 | F21: 16.26 | G21: 0 | H21: 16.26 | I21: =D21*F21 -> 16.26
A22: ESPELHO 4X2" C/ 1 CONECTOR RJ-45 FEMEA CAT 5E | B22: UN | C22: 51008 | D22: 1 | E22: 1 | F22: 12.41 | G22: 0 | H22: 12.41 | I22: =D22*F22 -> 12.41
A23: SubTotal: | I23: =SUM(I17:I22) -> 99
A25: RESUMO
A26: DISCRIMINAÇÃO | D26: TAXA(%) | E26: VALORES
A27: Mão-de-Obra(A) | D27: 157.27 | E27: =I14 -> 289.62
A28: Materiais(B) | E28: =I23 -> 99
A29: Equipamentos(C) | E29: 0
A30: Produção da Equipe(D) | E30: 1
A31: Custo Horário Total(A+C) | E31: =I14+E29 -> 289.62
A32: Custo Unitário da Execução[(A/D)+(C/D)] = E | E32: =(E27/E30)+(E29/E30) -> 289.62
A33: Custo Direto Total(B+E) | E33: =E28+E32 -> 388.62
A34: Bonificações e Despesas Indiretas - BDI | D34: 0 | E34: 0
A35: CUSTO UNITÁRIO (Adotado) | E35: =E33+E34 -> 388.62

Sheet COMP-03
A1: COMPOSIÇÃO 03
G6: Data Base: FEVEREIRO/2025
A8: Serviço: Ponto de telefone | H8: Unidade: pt
A9: Base: LABOR | C9: Código Base: 160101 | E9: Fonte: LABOR | H9: Versão: 1
A11: MÃO DE OBRA | B11: Unid | C11: Código | D11: Coefic. | E11: C. Prod. | F11: Pr. Prod. | G11: Pr. Improd. | H11: Pr. Unit. | I11: Subtotal
A12: AJUDANTE | B12: H | C12: 10101 | D12: 5.25 | E12: 1 | F12: 4.67 | G12: 0 | H12: 12.17 | I12: =D12*H12 -> 63.89
A13: ELETRICISTA | B13: H | C13: 10115 | D13: 5.25 | E13: 1 | F13: 5.54 | G13: 0 | H13: 14.4 | I13: =D13*H13 -> 75.6
A14: SubTotal: | I14: =SUM(I12:I13) -> 139.49
A16: MATERIAL | B16: Unid | C16: Código | D16: Coefic. | E16: C. Prod. | F16: Pr. Prod. | G16: Pr. Improd. | H16: Pr. Unit. | I16: Subtotal
A17: ELETRODUTO DE PVC RIGIDO 3/4" - ROSCAVEL SEM LUVA | B17: M | C17: 42502 | D17: 19.8 | E17: 1 | F17: 2.15 | G17: 0 | H17: 2.15 | I17: =H17*D17 -> 42.57
A18: CABO UTP 4 PARES CAT 5E | B18: M | C18: 43127 | D18: 21 | E18: 1 | F18: 3.18 | G18: 0 | H18: 3.18 | I18: =D18*F18 -> 66.78
A19: CAIXA PVC 4 X 2" - IP40 - TIGRE OU EQUIVALENTE | B19: UN | C19: 45104 | D19: 1 | E19: 1 | F19: 2.28 | G19: 0 | H19: 2.28 | I19: =D19*F19 -> 2.28
A20: TOMADA TELEFONE COM CONECTOR RJ11 | B20: UN | C20: 51015 | D20: 1 | E20: 1 | F20: 59.99 | G20: 0 | H20: 59.99 | I20: =H20*D20 -> 59.99
A21: SubTotal: | I21: =SUM(I17:I20) -> 171.62
A23: RESUMO
A24: DISCRIMINAÇÃO | D24: TAXA(%) | E24: VALORES
A25: Mão-de-Obra(A) | D25: 160.37 | E25: =I14 -> 139.49
A26: Materiais(B) | E26: =I21 -> 171.62
A27: Equipamentos(C) | E27: 0
A28: Produção da Equipe(D) | E28: 1
A29: Custo Horário Total(A+C) | E29: =E25+E27 -> 139.49
A30: Custo Unitário da Execução[(A/D)+(C/D)] = E | E30: =(E25/E28)+(E27/E28) -> 139.49
A31: Custo Direto Total(B+E) | E31: =(E26+E30) -> 311.11
A32: Bonificações e Despesas Indiretas - BDI | D32: 0 | E32: 0
A33: CUSTO UNITÁRIO (Adotado) | E33: =E31+E32 -> 311.11

Sheet COMP-04
A1: COMPOSIÇÃO DE PREÇO UNITÁRIO - 04 | F1: ='[1]PLANILHA '!H7 -> DATA BASE DA PLANILHA: | I1: ='[2]CRONOGRAMA '!E3 -> JANEIRO 2025
A2: SERVIÇO: | C2: CURVA 45 GRAUS, PVC, SOLDÁVEL, DN 110MM, INSTALADO EM RAMAL OU SUB-RAMAL DE ÁGUA - FORNECIMENTO E INSTALAÇÃO.
J3: UNIDADE: | L3: und
A4: CÓD. | B4: ÓRGÃO | C4: EQUIPAMENTO | D4: COND. DE TRAB. | E4: UTILIZAÇÃO | J4: CUSTO OPERACIONAL
E5: QUANT | H5: PROD | I5: IMPR | J5: Vl Hr.Prod | K5: Vl Hr. Imp | L5: Custo Horário
L6: =E6*J6*1.0815 -> 0
A8: ( A ) TOTAL | L8: =SUM(L6:L7) -> 0
A9: CÓD. | B9: ÓRGÃO | C9: MÃO DE OBRA SUPLEMENTAR | D9: UNIDADE | E9: QUANTIDADE | J9: SALÁRIO HORA | L9: CUSTO HORÁRIO
A10: 88267 | B10: SINAPI | C10: ENCANADOR OU BOMBEIRO HIDRÁULICO COM ENCARGOS COMPLEMENTARES | D10: H | E10: 0.3 | J10: 29.54 | L10: =ROUND(J10*E10,2) -> 8.86
A11: 88248 | B11: SINAPI | C11: AUXILIAR DE ENCANADOR OU BOMBEIRO HIDRÁULICO COM ENCARGOS COMPLEMENTARES | D11: H | E11: 0.3 | J11: 25.3 | L11: =ROUND(J11*E11,2) -> 7.59
A14: ( B ) TOTAL | L14: =SUM(L10:L13) -> 16.45
A15: ( C ) ADICIONAL DE FERRAMENTAS MANUAIS (5%) | L15: =L14*0.05 -> 0.82
A16: ( D ) PRODUÇÃO DA EQUIPE | L16: 1
A17: CUSTO UNITÁRIO DA EXECUÇÃO ( A + B + C) / D = ( E ) | L17: =ROUND((L8+L14+L15)/L16,2) -> 17.27
A18: CÓD. | B18: ÓRGÃO | C18: MATERIAIS | D18: UNIDADE | E18: CONSUMO | J18: CUSTO UNITÁRIO | L18: CUSTO
A19: 122 | B19: SINAPI | C19: ADESIVO PLASTICO PARA PVC, FRASCO COM *850* GR | D19: und | E19: 0.0353 | J19: 66.86 | L19: =E19*J19 -> 2.36
A20: MERCADO 03 | C20: =[2]MERC.03!C2 -> #REF! | D20: und | E20: 1 | J20: =[2]MERC.03!H10 -> #REF! | L20: =E20*J20 -> #REF!
A21: 20083 | B21: SINAPI | C21: SOLUCAO PREPARADORA / LIMPADORA PARA PVC, FRASCO COM 1000 CM3 | D21: und | E21: 0.06 | J21: 78.02 | L21: =E21*J21 -> 4.68
A22: 38383 | B22: SINAPI | C22: LIXA D'AGUA EM FOLHA, GRAO 100 | D22: m | E22: 0.03 | J22: 2.44 | L22: =E22*J22 -> 0.07
A23: ( F ) TOTAL | L23: =SUM(L19:L22) -> #REF!
A24: CÓD. | B24: ÓRGÃO | C24: SERVIÇOS | D24: UNIDADE | E24: CONSUMO | J24: CUSTO UNITÁRIO | L24: CUSTO
L25: =J25*E25 -> 0
A26: ( G ) TOTAL | L26: =SUM(L25:L25) -> 0
A27: CÓD. | B27: ÓRGÃO | C27: TRANSPORTE | D27: UNIDADE | E27: D.M.T. | F27: D.M.T. | G27: CONSUMO (t) | H27: CUSTO TOTAL | L27: CUSTO
E28: XP | F28: XR | H28: FÓRMULA | J28: CUSTO UNITÁRIO
L29: =G29*J29 -> 0
A30: ( H ) TOTAL | L30: =SUM(L29:L29) -> 0
A31: CUSTO DIRETO TOTAL ( E ) + ( F ) + ( G ) + ( H ) | L31: =L17+L23+L26+L30 -> #REF!
A32: CUSTO UNITÁRIO TOTAL | L32: =L31 -> #REF!

Sheet COMP-05
A1: COMPOSIÇÃO DE PREÇO UNITÁRIO - 05 | F1: ='[1]PLANILHA '!H7 -> DATA BASE DA PLANILHA: | I1: ='[2]CRONOGRAMA '!E3 -> JANEIRO 2025
A2: SERVIÇO: | C2: TÊ, PVC, SOLDÁVEL, DN 110MM, INSTALADO EM RAMAL OU SUB-RAMAL DE ÁGUA - FORNECIMENTO E INSTALAÇÃO.
J3: UNIDADE: | L3: und
A4: CÓD. | B4: ÓRGÃO | C4: EQUIPAMENTO | D4: COND. DE TRAB. | E4: UTILIZAÇÃO | J4: CUSTO OPERACIONAL
E5: QUANT | H5: PROD | I5: IMPR | J5: Vl Hr.Prod | K5: Vl Hr. Imp | L5: Custo Horário
L6: =E6*J6*1.0815 -> 0
A8: ( A ) TOTAL | L8: =SUM(L6:L7) -> 0
A9: CÓD. | B9: ÓRGÃO | C9: MÃO DE OBRA SUPLEMENTAR | D9: UNIDADE | E9: QUANTIDADE | J9: SALÁRIO HORA | L9: CUSTO HORÁRIO
A10: 88267 | B10: SINAPI | C10: ENCANADOR OU BOMBEIRO HIDRÁULICO COM ENCARGOS COMPLEMENTARES | D10: H | E10: 0.3 | J10: 29.54 | L10: =ROUND(J10*E10,2) -> 8.86
A11: 88248 | B11: SINAPI | C11: AUXILIAR DE ENCANADOR OU BOMBEIRO HIDRÁULICO COM ENCARGOS COMPLEMENTARES | D11: H | E11: 0.3 | J11: 25.3 | L11: =ROUND(J11*E11,2) -> 7.59
A14: ( B ) TOTAL | L14: =SUM(L10:L13) -> 16.45
A15: ( C ) ADICIONAL DE FERRAMENTAS MANUAIS (5%) | L15: =L14*0.05 -> 0.82
A16: ( D ) PRODUÇÃO DA EQUIPE | L16: 1
A17: CUSTO UNITÁRIO DA EXECUÇÃO ( A + B + C) / D = ( E ) | L17: =ROUND((L8+L14+L15)/L16,2) -> 17.27
A18: CÓD. | B18: ÓRGÃO | C18: MATERIAIS | D18: UNIDADE | E18: CONSUMO | J18: CUSTO UNITÁRIO | L18: CUSTO
A19: 122 | B19: SINAPI | C19: ADESIVO PLASTICO PARA PVC, FRASCO COM *850* GR | D19: und | E19: 0.0353 | J19: 66.86 | L19: =E19*J19 -> 2.36
A20: MERCADO 04 | C20: =[2]MERC.04!C2 -> #REF! | D20: und | E20: 1 | J20: =[2]MERC.04!H10 -> #REF! | L20: =E20*J20 -> #REF!
A21: 20083 | B21: SINAPI | C21: SOLUCAO PREPARADORA / LIMPADORA PARA PVC, FRASCO COM 1000 CM3 | D21: und | E21: 0.06 | J21: 78.02 | L21: =E21*J21 -> 4.68
A22: 38383 | B22: SINAPI | C22: LIXA D'AGUA EM FOLHA, GRAO 100 | D22: m | E22: 0.03 | J22: 2.44 | L22: =E22*J22 -> 0.07
A23: ( F ) TOTAL | L23: =SUM(L19:L22) -> #REF!
A24: CÓD. | B24: ÓRGÃO | C24: SERVIÇOS | D24: UNIDADE | E24: CONSUMO | J24: CUSTO UNITÁRIO | L24: CUSTO
L25: =J25*E25 -> 0
A26: ( G ) TOTAL | L26: =SUM(L25:L25) -> 0
A27: CÓD. | B27: ÓRGÃO | C27: TRANSPORTE | D27: UNIDADE | E27: D.M.T. | F27: D.M.T. | G27: CONSUMO (t) | H27: CUSTO TOTAL | L27: CUSTO
E28: XP | F28: XR | H28: FÓRMULA | J28: CUSTO UNITÁRIO
L29: =G29*J29 -> 0
A30: ( H ) TOTAL | L30: =SUM(L29:L29) -> 0
A31: CUSTO DIRETO TOTAL ( E ) + ( F ) + ( G ) + ( H ) | L31: =L17+L23+L26+L30 -> #REF!
A32: CUSTO UNITÁRIO TOTAL | L32: =L31 -> #REF!

Sheet COMP-06
A1: COMPOSIÇÃO DE PREÇO UNITÁRIO - 06 | F1: ='[1]PLANILHA '!H7 -> DATA BASE DA PLANILHA: | I1: ='[2]CRONOGRAMA '!E3 -> JANEIRO 2025
A2: SERVIÇO: | C2: TUBO DE PVC, SOLDÁVEL, DN 110MM, INSTALADO EM RAMAL OU SUB-RAMAL DE ÁGUA - FORNECIMENTO E INSTALAÇÃO.
J3: UNIDADE: | L3: m
A4: CÓD. | B4: ÓRGÃO | C4: EQUIPAMENTO | D4: COND. DE TRAB. | E4: UTILIZAÇÃO | J4: CUSTO OPERACIONAL
E5: QUANT | H5: PROD | I5: IMPR | J5: Vl Hr.Prod | K5: Vl Hr. Imp | L5: Custo Horário
L6: =E6*J6*1.0815 -> 0
A8: ( A ) TOTAL | L8: =SUM(L6:L7) -> 0
A9: CÓD. | B9: ÓRGÃO | C9: MÃO DE OBRA SUPLEMENTAR | D9: UNIDADE | E9: QUANTIDADE | J9: SALÁRIO HORA | L9: CUSTO HORÁRIO
A10: 88267 | B10: SINAPI | C10: ENCANADOR OU BOMBEIRO HIDRÁULICO COM ENCARGOS COMPLEMENTARES | D10: H | E10: 0.453 | J10: 29.54 | L10: =ROUND(J10*E10,2) -> 13.38
A11: 88248 | B11: SINAPI | C11: AUXILIAR DE ENCANADOR OU BOMBEIRO HIDRÁULICO COM ENCARGOS COMPLEMENTARES | D11: H | E11: 0.453 | J11: 25.3 | L11: =ROUND(J11*E11,2) -> 11.46
A14: ( B ) TOTAL | L14: =SUM(L10:L13) -> 24.84
A15: ( C ) ADICIONAL DE FERRAMENTAS MANUAIS (5%) | L15: =L14*0.05 -> 1.24
A16: ( D ) PRODUÇÃO DA EQUIPE | L16: 1
A17: CUSTO UNITÁRIO DA EXECUÇÃO ( A + B + C) / D = ( E ) | L17: =ROUND((L8+L14+L15)/L16,2) -> 26.08
A18: CÓD. | B18: ÓRGÃO | C18: MATERIAIS | D18: UNIDADE | E18: CONSUMO | J18: CUSTO UNITÁRIO | L18: CUSTO
A19: MERCADO 05 | C19: =[2]MERC.05!C2 -> #REF! | D19: m | E19: =1/6 -> 0.1667 | J19: =[2]MERC.05!H10 -> #REF! | L19: =E19*J19 -> #REF!
A20: 38383 | B20: SINAPI | C20: LIXA D'AGUA EM FOLHA, GRAO 100 | D20: m | E20: 0.1056 | J20: 2.44 | L20: =E20*J20 -> 0.26
A21: ( F ) TOTAL | L21: =SUM(L19:L20) -> #REF!
A22: CÓD. | B22: ÓRGÃO | C22: SERVIÇOS | D22: UNIDADE | E22: CONSUMO | J22: CUSTO UNITÁRIO | L22: CUSTO
L23: =J23*E23 -> 0
A24: ( G ) TOTAL | L24: =SUM(L23:L23) -> 0
A25: CÓD. | B25: ÓRGÃO | C25: TRANSPORTE | D25: UNIDADE | E25: D.M.T. | F25: D.M.T. | G25: CONSUMO (t) | H25: CUSTO TOTAL | L25: CUSTO
E26: XP | F26: XR | H26: FÓRMULA | J26: CUSTO UNITÁRIO
L27: =G27*J27 -> 0
A28: ( H ) TOTAL | L28: =SUM(L27:L27) -> 0
A29: CUSTO DIRETO TOTAL ( E ) + ( F ) + ( G ) + ( H ) | L29: =L17+L21+L24+L28 -> #REF!
A30: CUSTO UNITÁRIO TOTAL | L30: =L29 -> #REF!

Sheet COMP-07
A1: COMPOSIÇÃO DE PREÇO UNITÁRIO - 07 | F1: ='[1]PLANILHA '!H7 -> DATA BASE DA PLANILHA: | I1: ='[2]CRONOGRAMA '!E3 -> JANEIRO 2025
A2: SERVIÇO: | C2: REDUÇÃO, PVC, SOLDÁVEL, DN 110MM PARA DN 75MM, INSTALADO EM RAMAL OU SUB-RAMAL DE ÁGUA - FORNECIMENTO E INSTALAÇÃO.
J3: UNIDADE: | L3: und
A4: CÓD. | B4: ÓRGÃO | C4: EQUIPAMENTO | D4: COND. DE TRAB. | E4: UTILIZAÇÃO | J4: CUSTO OPERACIONAL
E5: QUANT | H5: PROD | I5: IMPR | J5: Vl Hr.Prod | K5: Vl Hr. Imp | L5: Custo Horário
L6: =E6*J6*1.0815 -> 0
A8: ( A ) TOTAL | L8: =SUM(L6:L7) -> 0
A9: CÓD. | B9: ÓRGÃO | C9: MÃO DE OBRA SUPLEMENTAR | D9: UNIDADE | E9: QUANTIDADE | J9: SALÁRIO HORA | L9: CUSTO HORÁRIO
A10: 88267 | B10: SINAPI | C10: ENCANADOR OU BOMBEIRO HIDRÁULICO COM ENCARGOS COMPLEMENTARES | D10: H | E10: 0.3 | J10: 29.54 | L10: =ROUND(J10*E10,2) -> 8.86
A11: 88248 | B11: SINAPI | C11: AUXILIAR DE ENCANADOR OU BOMBEIRO HIDRÁULICO COM ENCARGOS COMPLEMENTARES | D11: H | E11: 0.3 | J11: 25.3 | L11: =ROUND(J11*E11,2) -> 7.59
A14: ( B ) TOTAL | L14: =SUM(L10:L13) -> 16.45
A15: ( C ) ADICIONAL DE FERRAMENTAS MANUAIS (5%) | L15: =L14*0.05 -> 0.82
A16: ( D ) PRODUÇÃO DA EQUIPE | L16: 1
A17: CUSTO UNITÁRIO DA EXECUÇÃO ( A + B + C) / D = ( E ) | L17: =ROUND((L8+L14+L15)/L16,2) -> 17.27
A18: CÓD. | B18: ÓRGÃO | C18: MATERIAIS | D18: UNIDADE | E18: CONSUMO | J18: CUSTO UNITÁRIO | L18: CUSTO
A19: 122 | B19: SINAPI | C19: ADESIVO PLASTICO PARA PVC, FRASCO COM *850* GR | D19: und | E19: 0.0353 | J19: 66.86 | L19: =E19*J19 -> 2.36
A20: MERCADO 06 | C20: =[2]MERC.06!C2 -> #REF! | D20: und | E20: 1 | J20: =[2]MERC.06!H10 -> #REF! | L20: =E20*J20 -> #REF!
A21: 20083 | B21: SINAPI | C21: SOLUCAO PREPARADORA / LIMPADORA PARA PVC, FRASCO COM 1000 CM3 | D21: und | E21: 0.06 | J21: 78.02 | L21: =E21*J21 -> 4.68
A22: 38383 | B22: SINAPI | C22: LIXA D'AGUA EM FOLHA, GRAO 100 | D22: m | E22: 0.03 | J22: 2.44 | L22: =E22*J22 -> 0.07
A23: ( F ) TOTAL | L23: =SUM(L19:L22) -> #REF!
A24: CÓD. | B24: ÓRGÃO | C24: SERVIÇOS | D24: UNIDADE | E24: CONSUMO | J24: CUSTO UNITÁRIO | L24: CUSTO
L25: =J25*E25 -> 0
A26: ( G ) TOTAL | L26: =SUM(L25:L25) -> 0
A27: CÓD. | B27: ÓRGÃO | C27: TRANSPORTE | D27: UNIDADE | E27: D.M.T. | F27: D.M.T. | G27: CONSUMO (t) | H27: CUSTO TOTAL | L27: CUSTO
E28: XP | F28: XR | H28: FÓRMULA | J28: CUSTO UNITÁRIO
L29: =G29*J29 -> 0
A30: ( H ) TOTAL | L30: =SUM(L29:L29) -> 0
A31: CUSTO DIRETO TOTAL ( E ) + ( F ) + ( G ) + ( H ) | L31: =L17+L23+L26+L30 -> #REF!
A32: CUSTO UNITÁRIO TOTAL | L32: =L31 -> #REF!

Sheet COMP-08
A1: COMPOSIÇÃO DE PREÇO UNITÁRIO - 08 | F1: ='[1]PLANILHA '!H7 -> DATA BASE DA PLANILHA: | I1: ='[2]CRONOGRAMA '!E3 -> JANEIRO 2025
A2: SERVIÇO: | C2: REDUÇÃO, PVC, SOLDÁVEL, DN 75MM PARA DN 50MM, INSTALADO EM RAMAL OU SUB-RAMAL DE ÁGUA - FORNECIMENTO E INSTALAÇÃO.
J3: UNIDADE: | L3: und
A4: CÓD. | B4: ÓRGÃO | C4: EQUIPAMENTO | D4: COND. DE TRAB. | E4: UTILIZAÇÃO | J4: CUSTO OPERACIONAL
E5: QUANT | H5: PROD | I5: IMPR | J5: Vl Hr.Prod | K5: Vl Hr. Imp | L5: Custo Horário
L6: =E6*J6*1.0815 -> 0
A8: ( A ) TOTAL | L8: =SUM(L6:L7) -> 0
A9: CÓD. | B9: ÓRGÃO | C9: MÃO DE OBRA SUPLEMENTAR | D9: UNIDADE | E9: QUANTIDADE | J9: SALÁRIO HORA | L9: CUSTO HORÁRIO
A10: 88267 | B10: SINAPI | C10: ENCANADOR OU BOMBEIRO HIDRÁULICO COM ENCARGOS COMPLEMENTARES | D10: H | E10: 0.3 | J10: 29.54 | L10: =ROUND(J10*E10,2) -> 8.86
A11: 88248 | B11: SINAPI | C11: AUXILIAR DE ENCANADOR OU BOMBEIRO HIDRÁULICO COM ENCARGOS COMPLEMENTARES | D11: H | E11: 0.3 | J11: 25.3 | L11: =ROUND(J11*E11,2) -> 7.59
A14: ( B ) TOTAL | L14: =SUM(L10:L13) -> 16.45
A15: ( C ) ADICIONAL DE FERRAMENTAS MANUAIS (5%) | L15: =L14*0.05 -> 0.82
A16: ( D ) PRODUÇÃO DA EQUIPE | L16: 1
A17: CUSTO UNITÁRIO DA EXECUÇÃO ( A + B + C) / D = ( E ) | L17: =ROUND((L8+L14+L15)/L16,2) -> 17.27
A18: CÓD. | B18: ÓRGÃO | C18: MATERIAIS | D18: UNIDADE | E18: CONSUMO | J18: CUSTO UNITÁRIO | L18: CUSTO
A19: 122 | B19: SINAPI | C19: ADESIVO PLASTICO PARA PVC, FRASCO COM *850* GR | D19: und | E19: 0.0353 | J19: 66.86 | L19: =E19*J19 -> 2.36
A20: MERCADO 07 | C20: =[2]MERC.07!C2 -> #REF! | D20: und | E20: 1 | J20: =[2]MERC.07!H10 -> #REF! | L20: =E20*J20 -> #REF!
A21: 20083 | B21: SINAPI | C21: SOLUCAO PREPARADORA / LIMPADORA PARA PVC, FRASCO COM 1000 CM3 | D21: und | E21: 0.06 | J21: 78.02 | L21: =E21*J21 -> 4.68
A22: 38383 | B22: SINAPI | C22: LIXA D'AGUA EM FOLHA, GRAO 100 | D22: m | E22: 0.03 | J22: 2.44 | L22: =E22*J22 -> 0.07
A23: ( F ) TOTAL | L23: =SUM(L19:L22) -> #REF!
A24: CÓD. | B24: ÓRGÃO | C24: SERVIÇOS | D24: UNIDADE | E24: CONSUMO | J24: CUSTO UNITÁRIO | L24: CUSTO
L25: =J25*E25 -> 0
A26: ( G ) TOTAL | L26: =SUM(L25:L25) -> 0
A27: CÓD. | B27: ÓRGÃO | C27: TRANSPORTE | D27: UNIDADE | E27: D.M.T. | F27: D.M.T. | G27: CONSUMO (t) | H27: CUSTO TOTAL | L27: CUSTO
E28: XP | F28: XR | H28: FÓRMULA | J28: CUSTO UNITÁRIO
L29: =G29*J29 -> 0
A30: ( H ) TOTAL | L30: =SUM(L29:L29) -> 0
A31: CUSTO DIRETO TOTAL ( E ) + ( F ) + ( G ) + ( H ) | L31: =L17+L23+L26+L30 -> #REF!
A32: CUSTO UNITÁRIO TOTAL | L32: =L31 -> #REF!

Sheet COMP-09
A1: COMPOSIÇÃO DE PREÇO UNITÁRIO - 09 | F1: ='[1]PLANILHA '!H7 -> DATA BASE DA PLANILHA: | I1: ='[2]CRONOGRAMA '!E3 -> JANEIRO 2025
A2: SERVIÇO: | C2: REDUÇÃO, PVC, SOLDÁVEL, DN 75MM PARA DN 60MM, INSTALADO EM RAMAL OU SUB-RAMAL DE ÁGUA - FORNECIMENTO E INSTALAÇÃO.
J3: UNIDADE: | L3: und
A4: CÓD. | B4: ÓRGÃO | C4: EQUIPAMENTO | D4: COND. DE TRAB. | E4: UTILIZAÇÃO | J4: CUSTO OPERACIONAL
E5: QUANT | H5: PROD | I5: IMPR | J5: Vl Hr.Prod | K5: Vl Hr. Imp | L5: Custo Horário
L6: =E6*J6*1.0815 -> 0
A8: ( A ) TOTAL | L8: =SUM(L6:L7) -> 0
A9: CÓD. | B9: ÓRGÃO | C9: MÃO DE OBRA SUPLEMENTAR | D9: UNIDADE | E9: QUANTIDADE | J9: SALÁRIO HORA | L9: CUSTO HORÁRIO
A10: 88267 | B10: SINAPI | C10: ENCANADOR OU BOMBEIRO HIDRÁULICO COM ENCARGOS COMPLEMENTARES | D10: H | E10: 0.3 | J10: 29.54 | L10: =ROUND(J10*E10,2) -> 8.86
A11: 88248 | B11: SINAPI | C11: AUXILIAR DE ENCANADOR OU BOMBEIRO HIDRÁULICO COM ENCARGOS COMPLEMENTARES | D11: H | E11: 0.3 | J11: 25.3 | L11: =ROUND(J11*E11,2) -> 7.59
A14: ( B ) TOTAL | L14: =SUM(L10:L13) -> 16.45
A15: ( C ) ADICIONAL DE FERRAMENTAS MANUAIS (5%) | L15: =L14*0.05 -> 0.82
A16: ( D ) PRODUÇÃO DA EQUIPE | L16: 1
A17: CUSTO UNITÁRIO DA EXECUÇÃO ( A + B + C) / D = ( E ) | L17: =ROUND((L8+L14+L15)/L16,2) -> 17.27
A18: CÓD. | B18: ÓRGÃO | C18: MATERIAIS | D18: UNIDADE | E18: CONSUMO | J18: CUSTO UNITÁRIO | L18: CUSTO
A19: 122 | B19: SINAPI | C19: ADESIVO PLASTICO PARA PVC, FRASCO COM *850* GR | D19: und | E19: 0.0353 | J19: 66.86 | L19: =E19*J19 -> 2.36
A20: MERCADO 08 | C20: =[2]MERC.08!C2 -> #REF! | D20: und | E20: 1 | J20: =[2]MERC.08!H10 -> #REF! | L20: =E20*J20 -> #REF!
A21: 20083 | B21: SINAPI | C21: SOLUCAO PREPARADORA / LIMPADORA PARA PVC, FRASCO COM 1000 CM3 | D21: und | E21: 0.06 | J21: 78.02 | L21: =E21*J21 -> 4.68
A22: 38383 | B22: SINAPI | C22: LIXA D'AGUA EM FOLHA, GRAO 100 | D22: m | E22: 0.03 | J22: 2.44 | L22: =E22*J22 -> 0.07
A23: ( F ) TOTAL | L23: =SUM(L19:L22) -> #REF!
A24: CÓD. | B24: ÓRGÃO | C24: SERVIÇOS | D24: UNIDADE | E24: CONSUMO | J24: CUSTO UNITÁRIO | L24: CUSTO
L25: =J25*E25 -> 0
A26: ( G ) TOTAL | L26: =SUM(L25:L25) -> 0
A27: CÓD. | B27: ÓRGÃO | C27: TRANSPORTE | D27: UNIDADE | E27: D.M.T. | F27: D.M.T. | G27: CONSUMO (t) | H27: CUSTO TOTAL | L27: CUSTO
E28: XP | F28: XR | H28: FÓRMULA | J28: CUSTO UNITÁRIO
L29: =G29*J29 -> 0
A30: ( H ) TOTAL | L30: =SUM(L29:L29) -> 0
A31: CUSTO DIRETO TOTAL ( E ) + ( F ) + ( G ) + ( H ) | L31: =L17+L23+L26+L30 -> #REF!
A32: CUSTO UNITÁRIO TOTAL | L32: =L31 -> #REF!

Sheet COMP-10
A1: COMPOSIÇÃO DE PREÇO UNITÁRIO - 10 | F1: ='[1]PLANILHA '!H7 -> DATA BASE DA PLANILHA: | I1: ='[2]CRONOGRAMA '!E3 -> JANEIRO 2025
A2: SERVIÇO: | C2: TAMPÃO FERRO FUNDIDO, ARTICULADO, 120 X 95 - FORNECIMENTO E INSTALAÇÃO.
J3: UNIDADE: | L3: und
A4: CÓD. | B4: ÓRGÃO | C4: EQUIPAMENTO | D4: COND. DE TRAB. | E4: UTILIZAÇÃO | J4: CUSTO OPERACIONAL
E5: QUANT | H5: PROD | I5: IMPR | J5: Vl Hr.Prod | K5: Vl Hr. Imp | L5: Custo Horário
L6: =E6*J6*1.0815 -> 0
A8: ( A ) TOTAL | L8: =SUM(L6:L7) -> 0
A9: CÓD. | B9: ÓRGÃO | C9: MÃO DE OBRA SUPLEMENTAR | D9: UNIDADE | E9: QUANTIDADE | J9: SALÁRIO HORA | L9: CUSTO HORÁRIO
A10: 10101 | B10: DER-EDIF. | C10: PEDREIRO (OFICIAL - SINDUSCON) (LABOR) | D10: H | E10: 5 | J10: 24.1 | L10: =ROUND(J10*E10,2) -> 120.5
A11: 010146 | B11: DER-EDIF. | C11: SERVENTE (AUXILIAR DE OBRAS - SINDUSCON) (LABOR) | D11: H | E11: 5.5 | J11: 17.88 | L11: =ROUND(J11*E11,2) -> 98.34
A14: ( B ) TOTAL | L14: =SUM(L10:L13) -> 218.84
A15: ( C ) ADICIONAL DE FERRAMENTAS MANUAIS (5%) | L15: =L14*0.05 -> 10.94
A16: ( D ) PRODUÇÃO DA EQUIPE | L16: 1
A17: CUSTO UNITÁRIO DA EXECUÇÃO ( A + B + C) / D = ( E ) | L17: =ROUND((L8+L14+L15)/L16,2) -> 229.78
A18: CÓD. | B18: ÓRGÃO | C18: MATERIAIS | D18: UNIDADE | E18: CONSUMO | J18: CUSTO UNITÁRIO | L18: CUSTO
A19: 20503 | B19: DER-EDIF. | C19: AREIA LAVADA MEDIA (LABOR) | D19: m³ | E19: 0.05 | J19: 136.67 | L19: =E19*J19 -> 6.83
A20: MERCADO 09 | C20: =[2]MERC.09!C2 -> #REF! | D20: und | E20: 1 | J20: =[2]MERC.09!H10 -> #REF! | L20: =E20*J20 -> #REF!
A21: 20508 | B21: DER-EDIF. | C21: CIMENTO PORTLAND CP III - 40 (LABOR) | D21: kg | E21: 1 | J21: 0.57 | L21: =E21*J21 -> 0.57
A22: 69512 | B22: DER-EDIF. | C22: FITA DE VEDACAO 18MM X 50M (LABOR) | D22: m | E22: 4 | J22: 0.21 | L22: =E22*J22 -> 0.84
A23: ( F ) TOTAL | L23: =SUM(L19:L22) -> #REF!
A24: CÓD. | B24: ÓRGÃO | C24: SERVIÇOS | D24: UNIDADE | E24: CONSUMO | J24: CUSTO UNITÁRIO | L24: CUSTO
L25: =J25*E25 -> 0
A26: ( G ) TOTAL | L26: =SUM(L25:L25) -> 0
A27: CÓD. | B27: ÓRGÃO | C27: TRANSPORTE | D27: UNIDADE | E27: D.M.T. | F27: D.M.T. | G27: CONSUMO (t) | H27: CUSTO TOTAL | L27: CUSTO
E28: XP | F28: XR | H28: FÓRMULA | J28: CUSTO UNITÁRIO
L29: =G29*J29 -> 0
A30: ( H ) TOTAL | L30: =SUM(L29:L29) -> 0
A31: CUSTO DIRETO TOTAL ( E ) + ( F ) + ( G ) + ( H ) | L31: =L17+L23+L26+L30 -> #REF!
A32: CUSTO UNITÁRIO TOTAL | L32: =L31 -> #REF!

Sheet COMP-11
A1: COMPOSIÇÃO DE PREÇO UNITÁRIO - 11 | F1: DATA BASE DA PLANILHA: | I1: JANEIRO 2025
A2: SERVIÇO: | C2: BANCO DE ALVENARIA DE BLOCO DE CONCRETO COM REVESTIMENTO EM GRANIZO CINZA ANDORINHA, DIM 2,5 X 0,6 X 0,43
J3: UNIDADE: | L3: und
A4: CÓD. | B4: ÓRGÃO | C4: EQUIPAMENTO | D4: COND. DE TRAB. | E4: UTILIZAÇÃO | J4: CUSTO OPERACIONAL
E5: QUANT | H5: PROD | I5: IMPR | J5: Vl Hr.Prod | K5: Vl Hr. Imp | L5: Custo Horário
L6: =E6*J6*1.0815 -> 0
A8: ( A ) TOTAL | L8: =SUM(L6:L7) -> 0
A9: CÓD. | B9: ÓRGÃO | C9: MÃO DE OBRA SUPLEMENTAR | D9: UNIDADE | E9: QUANTIDADE | J9: SALÁRIO HORA | L9: CUSTO HORÁRIO
A10: 010146 | B10: DER-EDIF. | C10: SERVENTE (AUXILIAR DE OBRAS - SINDUSCON) (LABOR) | D10: H | E10: 24 | J10: 17.88 | L10: =ROUND(J10*E10,2) -> 429.12
A11: 10124 | B11: DER-EDIF. | C11: GRANITEIRO/MARMORISTA (OFICIAL - SINDUSCON) (LABOR) | D11: H | E11: 24 | J11: 24.1 | L11: =ROUND(J11*E11,2) -> 578.4
A13: ( B ) TOTAL | L13: =SUM(L10:L12) -> 1007.52
A14: ( C ) ADICIONAL DE FERRAMENTAS MANUAIS (5%) | L14: =L13*0.05 -> 50.38
A15: ( D ) PRODUÇÃO DA EQUIPE | L15: 1
A16: CUSTO UNITÁRIO DA EXECUÇÃO ( A + B + C) / D = ( E ) | L16: =ROUND((L8+L13+L14)/L15,2) -> 1057.9
A17: CÓD. | B17: ÓRGÃO | C17: MATERIAIS | D17: UNIDADE | E17: CONSUMO | J17: CUSTO UNITÁRIO | L17: CUSTO
A18: 32505 | B18: DER-EDIF. | C18: GRANITO CINZA ANDORINHA POLIDO ESP. 2CM P/ BANCAD (LABOR) | D18: m² | E18: =((2.5+2.5+0.5+0.5)*0.43)+(2.5*0.5) -> 3.83 | J18: 253.83 | L18: =E18*J18 -> 972.17
A19: 20732 | B19: DER-EDIF. | C19: ARGAM COLANTE FLEXIVEL AC III P/ ASSENT. PORCELANATO E PEDRAS (GRANITO E MÁRMORE) (LABOR) | D19: kg | E19: =1.5*E18 -> 5.75 | J19: 2.38 | L19: =E19*J19 -> 13.69
A20: ( B ) TOTAL | L20: =SUM(L18:L19) -> 985.86
A21: CÓD. | B21: ÓRGÃO | C21: SERVIÇOS | D21: UNIDADE | E21: CONSUMO | J21: CUSTO UNITÁRIO | L21: CUSTO
A22: 50501 | B22: DER-EDIF. | C22: Alvenaria de blocos de concreto estrut. (14x19x39cm) cheios, c/ resist. mín. compr. 15MPa, assentados c/ arg. de cimento e areia no traço 1:4, esp. juntas 10mm e esp. da parede s/ revest. 14cm | D22: m² | E22: =0.35*4*2.5 -> 3.5 | J22: 5.6 | L22: =J22*E22 -> 19.6
A23: 110101 | B23: DER-EDIF. | C23: Chapisco com argamassa de cimento e areia média ou grossa lavada no traço 1:3, espessura 5 mm | D23: m² | E23: =((2.5+2.5+0.5+0.5)*0.43)+(2.5*0.5) -> 3.83 | J23: 14.2 | L23: =J23*E23 -> 54.39
A24: 110302 | B24: DER-EDIF. | C24: Reboco tipo paulista de argamassa de cimento, cal hidratada CH1 e areia lavada traço 1:0.5:6, espessura 25 mm | D24: m² | E24: =((2.5+2.5+0.5+0.5)*0.43)+(2.5*0.5) -> 3.83 | J24: 68.2 | L24: =J24*E24 -> 261.21
A25: 130109 | B25: DER-EDIF. | C25: Lastro regularizado e impermeabilizado de concreto não estrutural, espessura de 8 cm | D25: m² | E25: =2.5*0.5 -> 1.25 | J25: 83.67 | L25: =J25*E25 -> 104.59
A26: ( B ) TOTAL | L26: =SUM(L22:L25) -> 439.79
A27: CÓD. | B27: ÓRGÃO | C27: TRANSPORTE | D27: UNIDADE | E27: D.M.T. | F27: D.M.T. | G27: CONSUMO (t) | H27: CUSTO TOTAL | L27: CUSTO
E28: XP | F28: XR | H28: FÓRMULA | J28: CUSTO UNITÁRIO
L29: =G29*J29 -> 0
A30: ( H ) TOTAL | L30: =SUM(L29:L29) -> 0
A31: CUSTO DIRETO TOTAL ( E ) + ( F ) + ( G ) + ( H ) | L31: =L16+L20+L26+L30 -> 2483.55
A32: CUSTO UNITÁRIO TOTAL | L32: =L31 -> 2483.55

Sheet CRONOGRAMA
A1: P R E F E I T U R A M U N I C I P A L D E Á G U I A B R A N C A
A2: CRONOGRAMA
A3: OBRA: CONSTRUÇÃO DA SEDE ADMINISTRATIVA DO MUNICIPIO DE ÁGUIA BRANCA
A5: ITEM | B5: DESCRIÇÕES | D5: UNID. | E5: PRAZO DE EXECUÇÃO EM MESES CORRIDOS | AC5: TOTAL
E6: Mês 01 | F6: Mês 02 | G6: Mês 03 | H6: Mês 04 | I6: Mês 05 | J6: Mês 06 | K6: Mês 07 | L6: Mês 08 | M6: Mês 09 | N6: Mês 10 | O6: Mês 11 | P6: Mês 12 | Q6: Mês 13 | R6: Mês 14 | S6: Mês 15 | T6: Mês 16 | U6: Mês 17 | V6: Mês 18 | W6: Mês 19 | X6: Mês 20 | Y6: Mês 21 | Z6: Mês 22 | AA6: Mês 23 | AB6: Mês 24
A7: 1 | B7: SERVIÇOS PRELIMINARES | D7: =SUM(E7:T7) -> 1 | E7: 0.38 | F7: 0.025 | G7: 0.025 | H7: 0.025 | I7: 0.025 | J7: 0.025 | K7: 0.045 | L7: 0.05 | M7: 0.05 | N7: 0.05 | O7: 0.05 | P7: 0.05 | Q7: 0.05 | R7: 0.05 | S7: 0.05 | T7: 0.05 | AC7: =SUM(E7:AB7) -> 1
D8: =PLANILHA!I29 -> 595727.04 | E8: =D8*0.38 -> 226376.28 | F8: =D8*0.025 -> 14893.18 | G8: =D8*0.025 -> 14893.18 | H8: =D8*0.025 -> 14893.18 | I8: =D8*0.025 -> 14893.18 | J8: =D8*0.025 -> 14893.18 | K8: =D8*0.045 -> 26807.72 | L8: =D8*0.05 -> 29786.35 | M8: =D8*0.05 -> 29786.35 | N8: =D8*0.05 -> 29786.35 | O8: =D8*0.05 -> 29786.35 | P8: =D8*0.05 -> 29786.35 | Q8: =D8*0.05 -> 29786.35 | R8: =D8*0.05 -> 29786.35 | S8: =D8*0.05 -> 29786.35 | T8: =D8*0.05 -> 29786.35 | AC8: =SUM(E8:AB8) -> 595727.05 | AD8: =D8-AC8 -> -0.01
A9: 2 | B9: FUNDAÇÕES PROFUNDAS | D9: 100(%) | F9: 0.5 | G9: 0.5 | AC9: =SUM(E9:AB9) -> 1 | AD9: =D9-AC9 -> #VALUE!
D10: =PLANILHA!I37 -> 229837.61 | F10: =D10*0.5 -> 114918.81 | G10: =D10*0.5 -> 114918.81 | AC10: =SUM(E10:AB10) -> 229837.62 | AD10: =D10-AC10 -> -0.01
A11: 3 | B11: MOVIMENTAÇÃO DE TERRA | D11: 100(%) | F11: 1 | AC11: =SUM(E11:AB11) -> 1 | AD11: =D11-AC11 -> #VALUE!
D12: =PLANILHA!I42 -> 99574.38 | F12: =D12 -> 99574.38 | AC12: =SUM(E12:AB12) -> 99574.38 | AD12: =D12-AC12 -> 0
A13: 4 | B13: INFRA-ESTRUTURA | D13: 100(%) | G13: 0.25 | H13: 0.25 | I13: 0.5 | AC13: =SUM(G13:AB13) -> 1 | AD13: =D13-AC13 -> #VALUE!
D14: =PLANILHA!I50 -> 107175.35 | G14: =D14*0.25 -> 26793.84 | H14: =D14*0.25 -> 26793.84 | I14: =D14-G14-H14 -> 53587.67 | AC14: =SUM(G14:AB14) -> 107175.35 | AD14: =D14-AC14 -> 0
A15: 5 | B15: SUPRA-ESTRUTURA | D15: 100(%) | H15: 0.25 | I15: 0.25 | J15: 0.25 | K15: 0.25 | AC15: =SUM(H15:AB15) -> 1 | AD15: =D15-AC15 -> #VALUE!
D16: =PLANILHA!I57 -> 470209.28 | H16: =D16*0.25 -> 117552.32 | I16: =D16*0.25 -> 117552.32 | J16: =D16*0.25 -> 117552.32 | K16: =D16-H16-I16-J16 -> 117552.32 | AC16: =SUM(H16:AB16) -> 470209.28 | AD16: =D16-AC16 -> 0
A17: 6 | B17: LAJE | D17: 100(%) | H17: 0.25 | I17: 0.25 | J17: 0.25 | K17: 0.25 | AC17: =SUM(H17:AB17) -> 1 | AD17: =D17-AC17 -> #VALUE!
D18: =PLANILHA!I60 -> 284156.25 | H18: =D18*0.25 -> 71039.06 | I18: =D18*0.25 -> 71039.06 | J18: =D18*0.25 -> 71039.06 | K18: =D18-H18-I18-J18 -> 71039.07 | AC18: =SUM(H18:AB18) -> 284156.25 | AD18: =D18-AC18 -> 0
A19: 7 | B19: COBERTURA | D19: 100(%) | K19: 0.25 | L19: 0.75 | AC19: =SUM(K19:AB19) -> 1 | AD19: =D19-AC19 -> #VALUE!
D20: =PLANILHA!I68 -> 127738.03 | K20: =D20*0.25 -> 31934.51 | L20: =D20*0.75 -> 95803.52 | AC20: =SUM(K20:AB20) -> 127738.03 | AD20: =D20-AC20 -> 0
A21: 8 | B21: PAREDES E PAINEIS | D21: 100(%) | I21: 0.25 | J21: 0.25 | K21: 0.2 | L21: 0.2 | M21: 0.1 | AC21: =SUM(I21:AB21) -> 1 | AD21: =D21-AC21 -> #VALUE!
D22: =PLANILHA!I77 -> 120342.28 | I22: =D22*0.25 -> 30085.57 | J22: =D22*0.25 -> 30085.57 | K22: =D22*0.2 -> 24068.46 | L22: =D22*0.2 -> 24068.46 | M22: =D22-I22-J22-K22-L22 -> 12034.22 | AC22: =SUM(I22:AB22) -> 120342.28 | AD22: =D22-AC22 -> 0
A23: 9 | B23: ESQUADRIAS | D23: 100(%) | N23: 0.2 | O23: 0.2 | P23: 0.2 | Q23: 0.2 | R23: 0.2 | AC23: =SUM(N23:AB23) -> 1 | AD23: =D23-AC23 -> #VALUE!
D24: =PLANILHA!I92 -> 702768.53 | N24: =D24*0.2 -> 140553.71 | O24: =D24*0.2 -> 140553.71 | P24: =D24*0.2 -> 140553.71 | Q24: =D24*0.2 -> 140553.71 | R24: =D24-N24-O24-P24-Q24 -> 140553.69 | AC24: =SUM(N24:AB24) -> 702768.53 | AD24: =D24-AC24 -> 0
A25: 10 | B25: VIDROS E ESPELHOS | D25: 100(%) | P25: 0.25 | Q25: 0.25 | R25: 0.5 | AC25: =SUM(P25:AB25) -> 1 | AD25: =D25-AC25 -> #VALUE!
D26: =PLANILHA!I99 -> 45297.91 | P26: =D26*0.25 -> 11324.48 | Q26: =D26*0.25 -> 11324.48 | R26: =D26*0.5 -> 22648.96 | AC26: =SUM(P26:AB26) -> 45297.92 | AD26: =D26-AC26 -> -0.01
A27: 11 | B27: REVESTIMENTOS | D27: 100(%) | L27: 0.2 | M27: 0.3 | N27: 0.25 | O27: 0.25 | AC27: =SUM(L27:AB27) -> 1 | AD27: =D27-AC27 -> #VALUE!
D28: =PLANILHA!I108 -> 268018.43 | L28: =D28*0.2 -> 53603.69 | M28: =D28*0.3 -> 80405.53 | N28: =D28*0.25 -> 67004.61 | O28: =D28-L28-M28-N28 -> 67004.6 | AC28: =SUM(L28:AB28) -> 268018.43 | AD28: =D28-AC28 -> 0
A29: 12 | B29: PISO | D29: 100(%) | R29: 0.2 | S29: 0.2 | T29: 0.2 | U29: 0.2 | V29: 0.2 | AC29: =SUM(R29:AB29) -> 1 | AD29: =D29-AC29 -> #VALUE!
D30: =PLANILHA!I117 -> 199776.89 | R30: =D30*0.2 -> 39955.38 | S30: =D30*0.2 -> 39955.38 | T30: =D30*0.2 -> 39955.38 | U30: =D30*0.2 -> 39955.38 | V30: =D30*0.2 -> 39955.38 | AC30: =SUM(R30:AB30) -> 199776.9 | AD30: =D30-AC30 -> -0.01
A31: 13 | B31: INSTALAÇÕES HIDRO-SANITÁRIAS | D31: 100(%) | M31: 0.2 | N31: 0.05 | O31: 0.05 | P31: 0.1 | Q31: 0.1 | R31: 0.1 | S31: 0.1 | T31: 0.1 | U31: 0.1 | V31: 0.1 | AC31: =SUM(M31:AB31) -> 1 | AD31: =D31-AC31 -> #VALUE!
D32: =PLANILHA!I160 -> 171720.5 | M32: =D32*0.2 -> 34344.1 | N32: =D32*0.05 -> 8586.03 | O32: =D32*0.05 -> 8586.03 | P32: =D32*0.1 -> 17172.05 | Q32: =D32*0.1 -> 17172.05 | R32: =D32*0.1 -> 17172.05 | S32: =D32*0.1 -> 17172.05 | T32: =D32*0.1 -> 17172.05 | U32: =D32*0.1 -> 17172.05 | V32: =D32*0.1 -> 17172.05 | AC32: =SUM(M32:AB32) -> 171720.51 | AD32: =D32-AC32 -> -0.01
A33: 14 | B33: INSTALAÇÕES ELÉTRICAS | D33: 100(%) | N33: 0.1 | O33: 0.1 | P33: 0.1 | Q33: 0.1 | R33: 0.1 | S33: 0.1 | T33: 0.1 | U33: 0.1 | V33: 0.1 | W33: 0.1 | AC33: =SUM(N33:AB33) -> 1 | AD33: =D33-AC33 -> #VALUE!
D34: =PLANILHA!I201 -> 235352.13 | N34: =D34*0.1 -> 23535.21 | O34: =D34*0.1 -> 23535.21 | P34: =D34*0.1 -> 23535.21 | Q34: =D34*0.1 -> 23535.21 | R34: =D34*0.1 -> 23535.21 | S34: =D34*0.1 -> 23535.21 | T34: =D34*0.1 -> 23535.21 | U34: =D34*0.1 -> 23535.21 | V34: =D34*0.1 -> 23535.21 | W34: =D34*0.1 -> 23535.21 | AC34: =SUM(N34:AB34) -> 235352.1 | AD34: =D34-AC34 -> 0.03
A35: 15 | B35: OUTRAS INSTALAÇÕES | D35: 100(%) | N35: 0.1 | O35: 0.1 | P35: 0.1 | Q35: 0.1 | R35: 0.1 | S35: 0.1 | T35: 0.1 | U35: 0.1 | V35: 0.1 | W35: 0.1 | AC35: =SUM(N35:AB35) -> 1 | AD35: =D35-AC35 -> #VALUE!
